BEGIN:VCALENDAR
VERSION:2.0
PRODID:-//PMS - EURO Working Group on Project Management and Scheduling - ECPv6.15.13.1//NONSGML v1.0//EN
CALSCALE:GREGORIAN
METHOD:PUBLISH
X-WR-CALNAME:PMS - EURO Working Group on Project Management and Scheduling
X-ORIGINAL-URL:https://www.euro-online.org/websites/pms
X-WR-CALDESC:Events for PMS - EURO Working Group on Project Management and Scheduling
REFRESH-INTERVAL;VALUE=DURATION:PT1H
X-Robots-Tag:noindex
X-PUBLISHED-TTL:PT1H
BEGIN:VTIMEZONE
TZID:UTC
BEGIN:STANDARD
TZOFFSETFROM:+0000
TZOFFSETTO:+0000
TZNAME:UTC
DTSTART:20250101T000000
END:STANDARD
END:VTIMEZONE
BEGIN:VEVENT
DTSTART;VALUE=DATE:20260414
DTEND;VALUE=DATE:20260417
DTSTAMP:20260420T191657
CREATED:20250917T102125Z
LAST-MODIFIED:20250917T104749Z
UID:695-1776124800-1776383999@www.euro-online.org
SUMMARY:PMS 2026
DESCRIPTION:The 20th PMS Workshop is going to be be held at LAAS-CNRS\, Toulouse\, France\, from April 14 to 16\, 2026. A Master Class for young researchers will take place the day before the conference on April 13\, 2026. More …
URL:https://www.euro-online.org/websites/pms/event/pms-2026/
END:VEVENT
END:VCALENDAR