BEGIN:VCALENDAR
VERSION:2.0
PRODID:-//OR in Sports - ECPv6.15.13.1//NONSGML v1.0//EN
CALSCALE:GREGORIAN
METHOD:PUBLISH
X-WR-CALNAME:OR in Sports
X-ORIGINAL-URL:https://www.euro-online.org/websites/orinsports
X-WR-CALDESC:Events for OR in Sports
REFRESH-INTERVAL;VALUE=DURATION:PT1H
X-Robots-Tag:noindex
X-PUBLISHED-TTL:PT1H
BEGIN:VTIMEZONE
TZID:UTC
BEGIN:STANDARD
TZOFFSETFROM:+0000
TZOFFSETTO:+0000
TZNAME:UTC
DTSTART:20220101T000000
END:STANDARD
END:VTIMEZONE
BEGIN:VEVENT
DTSTART;VALUE=DATE:20230504
DTEND;VALUE=DATE:20230505
DTSTAMP:20260421T023053
CREATED:20230320T180208Z
LAST-MODIFIED:20230320T180336Z
UID:866-1683158400-1683244799@www.euro-online.org
SUMMARY:7th AUEB Sports Analytics Workshop
DESCRIPTION:The Sports Analytics Group of the Department of Statistics of Athens University of Economics & Business (AUEB) \nannounces the \n7th AUEB Sports Analytics Workshop (AUEB SAW2023) \nwhich will be hosted live at AUEB\, Athens (Greece) on the evenings of Thursday 3rd and Friday 4th of May 2023 (Exact times will be announced soon).\nThe workshop will be also accompanied by a virtual short course on Football Analytics (2-3 May 2023). \nTopics of the workshop include: \n***   Mathematical and physical models in sports\n***   Performance measures and models\n***   Optimisation of sports performance\n***   Statistics and probability models\n***   Match outcome models\n***   Competitive strategy\n***   Game theoretical models\n***   Optimal tournament design and scheduling\,\n***   Decision support systems\n***   Econometrics in sport\n***   Analysis of sporting technologies\n***   Computationally intensive methods\n***   Financial valuation in sport \nA limited number of contributed talks will be accepted. In case you wish to contribute a talk. Please submit your contributed talk here https://tinyurl.com/SAW2023-abstract by 30/3/2023. Notification of acceptance or rejection will be as soon as possible and before 10/4/2023. \nApply now here https://aueb-analytics.wixsite.com/saw2023/registration . \nEarly registration will be available until Sunday 23rd of April 2023. \nA limited number of positions is available.
URL:https://www.euro-online.org/websites/orinsports/event/7th-aueb-sports-analytics-workshop/
LOCATION:Athens\, Athens\, Greece
CATEGORIES:Conferences
ATTACH;FMTTYPE=image/jpeg:https://www.euro-online.org/websites/orinsports/wp-content/uploads/sites/10/2023/03/new_po12.jpg
END:VEVENT
BEGIN:VEVENT
DTSTART;VALUE=DATE:20230524
DTEND;VALUE=DATE:20230527
DTSTAMP:20260421T023053
CREATED:20221005T134205Z
LAST-MODIFIED:20221005T134205Z
UID:826-1684886400-1685145599@www.euro-online.org
SUMMARY:World Congress on Science and Football
DESCRIPTION:On behalf of the organizing committee it’s a great pleasure to announce that the World Congress on Science and Football will be held in Groningen\, The Netherlands. \nWe believe that all the necessary ingredients are available in Groningen to make the Congress a success; over 400 years of academic tradition\, applied science\, entrepreneurship\, a young population\, great facilities\, a charming and compact environment\, a rich football culture and close collaborations with the national football federation\, professional and amateur football clubs in the Netherlands. \nEnhance performance\, engage society \nThe congress slogan ‘Enhance performance\, engage society’ illustrates the many opportunities to translate knowledge and innovation in the domain of football performance towards activities and initiatives to increase sports participation and public health from grass roots to old age. \nAll presentations and activities will be in line with the overall theme of the congress ‘Enhance performance\, Engage society’ and cover all codes of football\, including association football (soccer)\, futsal\, rugby\, American football\, Australian rules football and more. \nScientific Abstract Submission Guidelines\nThe deadline for abstract submission: December 16\, 2022\, 24.00h CET. \n\nFebruary 20\, 2023: notification of acceptance.\nAll abstracts should be submitted electronically through the abstract submission page on www.wcsf2023.com\nAbstracts must follow the submission guidelines.\nAll abstracts will be reviewed by the Scientific Committee (SC) and the SC will decide which abstracts will be accepted.\nYou indicate whether you prefer an oral or poster presentation.\nYou select to which theme(s) you submit your abstract.\nThe SC decides about to which session (oral or poster) the abstracts are set.\n\nPresentation \n\nOral\nPoster\n\nThemes \n\nLoad and Recovery Monitoring\nTraining and Testing\nTalent Identification\nCoaching\nBiomechanics\nPsychology\nDecision-making\nTechnology\nBig Data\nInjury Prevention\nInjury Management\nFootball is medicine\nRefereeing\nFootball Economics\nHistorical\, cultural\, sociological\, and anthropological approaches to football
URL:https://www.euro-online.org/websites/orinsports/event/world-congress-on-science-and-football/
LOCATION:Groningen\, Netherlands
CATEGORIES:Conferences
ATTACH;FMTTYPE=image/png:https://www.euro-online.org/websites/orinsports/wp-content/uploads/sites/10/2022/10/WCSF.png
END:VEVENT
BEGIN:VEVENT
DTSTART;VALUE=DATE:20230525
DTEND;VALUE=DATE:20230527
DTSTAMP:20260421T023053
CREATED:20221125T203305Z
LAST-MODIFIED:20221125T203305Z
UID:847-1684972800-1685145599@www.euro-online.org
SUMMARY:Sport Economics & Sport Management
DESCRIPTION:Call for Papers: The conference will provide a platform for exchanging innovative thoughts and creating cooperation between researchers in the fields of sport management and economics. We are inviting proposals for paper presentations as well as complete sessions consisting out of three papers/presenters. This conference provides researchers with an opportunity to present theoretical\, empirical\, and policy-oriented research. \nOrganizing Committee: Gergely Csurilla (KRTK Institute of Economics)\, Georg Stadtmann (European University Viadrina) \nProgram Committee: Wladimir Andreff (Paris) ∙ Neil Longley (Massachusetts) ∙ Dennis Coates (Maryland\, Baltimore) ∙ Eike Emrich (Saarbrücken) ∙ Christian Pierdzioch (Hamburg) ∙ Stefan Szymanski (Michigan) ∙ Christian Dreger (Berlin) ∙ Georg Stadtmann (Frankfurt/Oder) ∙ Tim Pawlowski (Tübingen) ∙ Alexander Ferrauti (Bochum) ∙ Oliver Budzinski (Ilmenau) ∙ Bernd Frick (Paderborn) ∙ Gerd G. Wagner (Berlin) ∙ Markus Kurscheidt (Bayreuth) ∙ Joel G. Maxcy (Phiadelphia) ∙ Martin Falk (Vienna) ∙ Martin Kocher (Vienna) Luc Arrondel (Paris) ∙ Jean‐François Brocard (IASE) ∙ Richard Duhautois (CNAM) ∙ Oskar Kowalewski (Paris) \nDeadline for paper submission: Dec. 31st\, 2022. \nPlease visit http://sesmberlin.wix.com/smse or contact sesm@europa‐uni.de
URL:https://www.euro-online.org/websites/orinsports/event/sport-economics-sport-management/
LOCATION:Budapest (Hungary)\, Budapest\, Hungary
CATEGORIES:Conferences
ATTACH;FMTTYPE=image/jpeg:https://www.euro-online.org/websites/orinsports/wp-content/uploads/sites/10/2022/11/Central-Budapest-Danube-River-bank-Parliament-Building.jpg
END:VEVENT
END:VCALENDAR