BEGIN:VCALENDAR
VERSION:2.0
PRODID:-//OR in Sports - ECPv6.15.13.1//NONSGML v1.0//EN
CALSCALE:GREGORIAN
METHOD:PUBLISH
X-ORIGINAL-URL:https://www.euro-online.org/websites/orinsports
X-WR-CALDESC:Events for OR in Sports
REFRESH-INTERVAL;VALUE=DURATION:PT1H
X-Robots-Tag:noindex
X-PUBLISHED-TTL:PT1H
BEGIN:VTIMEZONE
TZID:UTC
BEGIN:STANDARD
TZOFFSETFROM:+0000
TZOFFSETTO:+0000
TZNAME:UTC
DTSTART:20210101T000000
END:STANDARD
END:VTIMEZONE
BEGIN:VEVENT
DTSTART;VALUE=DATE:20220526
DTEND;VALUE=DATE:20220529
DTSTAMP:20260421T212041
CREATED:20211224T104129Z
LAST-MODIFIED:20220310T110518Z
UID:792-1653523200-1653782399@www.euro-online.org
SUMMARY:6th Eastern Conference on Football Economics / 8th Western Conference on Football and Finance
DESCRIPTION:University of Reading\, and Paderborn University are organizing a conference on the economics and finance of football. It is aimed to highlight high quality research of the football industry as well as to facilitate the cooperation between academics and practitioners. \nThe organizers invite researchers to submit extended abstracts for presentation. Theoretical and empirical research papers that cover the economic\, financial\, social\, and managerial aspects of the football industry are welcome. The list of possible topics includes\, but is not limited to: transfer market\, discrimination\, football league regulations\, women football\, youth football\, tournament design\, optimization of match strategies\, corruption\, betting\, spectators’ demand\, financial and social issues of the World Cup\, scheduling\, referee assignments\, and competitive balance. \nTo participate in the conference\, please submit an extended abstract (3 pages) by February 15\, 2022. It should briefly describe the methodology of research\, clearly state the hypotheses and main results\, and emphasize contribution to the literature. Submission link is https://easychair.org/conferences/?conf=footecfin2022  Notifications of acceptance will be sent no later than March 15\, 2022. One of the principal goals of the conference is to provide each speaker the detailed feedback from the communities of sports economists and people working in the field of operations research in sports. For that purpose\, full texts of accepted papers must be submitted by April 15\, 2022. The program committee will assign a discussant to each paper by April 26\, 2022. Each conference speaker is expected to serve as a discussant for one other paper. Full papers will NOT be published anywhere; each full paper will be sent to one discussant. \nPlenary lectures will be delivered by Mario Guajardo (NHH Norwegian School of Economics)\, Brad Humphreys (West Virginia University)\, James Reade (University of Reading)\, Pamela Wicker (Bielefeld University). \nThere is no conference fee. For more information about the conference\, please visit the website https://www.footballeconomics.ru/ If you have any questions\, please contact Dr. Dmitry Dagaev (dagaev@hse.ru).
URL:https://www.euro-online.org/websites/orinsports/event/6th-eastern-conference-on-football-economics-8th-western-conference-on-football-and-finance/
LOCATION:Online
CATEGORIES:Conferences
ATTACH;FMTTYPE=image/jpeg:https://www.euro-online.org/websites/orinsports/wp-content/uploads/sites/10/2021/01/Online.jpg
END:VEVENT
BEGIN:VEVENT
DTSTART;VALUE=DATE:20220526
DTEND;VALUE=DATE:20220528
DTSTAMP:20260421T212041
CREATED:20220426T121140Z
LAST-MODIFIED:20220426T121140Z
UID:816-1653523200-1653695999@www.euro-online.org
SUMMARY:6th AUEB Sports Analytics Workshop
DESCRIPTION:The Sports Analytics Group of the Department of Statistics of Athens University of Economics & Business (AUEB) announces the 6th AUEB Sports Analytics Workshop (AUEB SAW2022) ​which will be  hosted in a hybrid form (virtual and live) AUEB\, Athens (Greece) on the evenings of Thursday 26th and Friday 27th of May 2022 (15.00-21.30 Greek time\, EEST (Eastern European Summer Time)\, GMT+3). \nThe workshop will be also accompanied by a short course on Basketball Data Science (23-24 May 2022). The short course will be held in hybrid form with a limited number of places available at the facilities of AUEB. \nThe workshop is dedicated to the memory of Professor Stefane Kesenne\, World class Sports Economist\, Pioneer in the area\, mentor and a good friend of Sports Analytics Group.\nThe Series of Sports Analytics Workshop was originally organized because of professor Kesenne. \nTopics of the workshop include:\n***   Mathematical and physical models in sports\n***   Performance measures and models\n***   Optimisation of sports performance\n***   Statistics and probability models\n***   Match outcome models\n***   Competitive strategy\n***   Game theoretical models\n***   Optimal tournament design and scheduling\,\n***   Decision support systems\n***   Econometrics in sport\n***   Analysis of sporting technologies\n***   Computationally intensive methods\n***   Financial valuation in sport \nA limited number of places of contributed talks will be also available.\nIf you wish to submit a proposal for a contributed talk please send title\, abstract\, short-bio (one paragraph) and a photo to Professor Ioannis Ntzoufras (ntzoufras@aueb.gr) by 15 April 2022. \nEarly registration will be available until Sunday 15 May 2022. \nWeb-page of SAW2022 is available here https://aueb-analytics.wixsite.com/saw2022\nFor registration please go here https://aueb-analytics.wixsite.com/saw2022/registration
URL:https://www.euro-online.org/websites/orinsports/event/6th-aueb-sports-analytics-workshop/
LOCATION:Athens\, Athens\, Greece
CATEGORIES:Conferences
ATTACH;FMTTYPE=image/jpeg:https://www.euro-online.org/websites/orinsports/wp-content/uploads/sites/10/2022/04/AUEB-Sports-analytics-workshop-2022.jpg
END:VEVENT
END:VCALENDAR