BEGIN:VCALENDAR
VERSION:2.0
PRODID:-//OR in Sports - ECPv6.15.13.1//NONSGML v1.0//EN
CALSCALE:GREGORIAN
METHOD:PUBLISH
X-ORIGINAL-URL:https://www.euro-online.org/websites/orinsports
X-WR-CALDESC:Events for OR in Sports
REFRESH-INTERVAL;VALUE=DURATION:PT1H
X-Robots-Tag:noindex
X-PUBLISHED-TTL:PT1H
BEGIN:VTIMEZONE
TZID:Europe/Paris
BEGIN:DAYLIGHT
TZOFFSETFROM:+0100
TZOFFSETTO:+0200
TZNAME:CEST
DTSTART:20200329T010000
END:DAYLIGHT
BEGIN:STANDARD
TZOFFSETFROM:+0200
TZOFFSETTO:+0100
TZNAME:CET
DTSTART:20201025T010000
END:STANDARD
BEGIN:DAYLIGHT
TZOFFSETFROM:+0100
TZOFFSETTO:+0200
TZNAME:CEST
DTSTART:20210328T010000
END:DAYLIGHT
BEGIN:STANDARD
TZOFFSETFROM:+0200
TZOFFSETTO:+0100
TZNAME:CET
DTSTART:20211031T010000
END:STANDARD
BEGIN:DAYLIGHT
TZOFFSETFROM:+0100
TZOFFSETTO:+0200
TZNAME:CEST
DTSTART:20220327T010000
END:DAYLIGHT
BEGIN:STANDARD
TZOFFSETFROM:+0200
TZOFFSETTO:+0100
TZNAME:CET
DTSTART:20221030T010000
END:STANDARD
END:VTIMEZONE
BEGIN:VEVENT
DTSTART;TZID=Europe/Paris:20211117T030000
DTEND;TZID=Europe/Paris:20211117T160000
DTSTAMP:20260422T065016
CREATED:20211110T121607Z
LAST-MODIFIED:20211110T121607Z
UID:784-1637118000-1637164800@www.euro-online.org
SUMMARY:IFORS Global Sports Analytics webinar
DESCRIPTION:When?\nNovember 17\, 2021 9:00 am Washington DC/ 3:00 pm Rome /12:00 am (Nov 18) Melbourne \nHosts: Michael Trick (IFORS Past-President) Frits Spieksma (Incoming IFORS Vice-President) \nRegister for this free webinar on the IFORS website: www.ifors.org \nInvited Speakers: \nElizabeth Wanless (Ohio University)\nDmitry Dagaev (Higher School of Economics\, Moscow)\nStephanie Kovalchik (ISEAL and Tennis Australia)\nMario Guajardo (Norwegian School of Economics\, Bergen) \nSeveral times each year\, IFORS will offer free webinars on topics of key interest to those developing and applying operational research and analytics methodologies and models.
URL:https://www.euro-online.org/websites/orinsports/event/ifors-global-sports-analytics-webinar/
LOCATION:Online
CATEGORIES:Conferences
ATTACH;FMTTYPE=image/png:https://www.euro-online.org/websites/orinsports/wp-content/uploads/sites/10/2021/11/IFORS.png
END:VEVENT
END:VCALENDAR