BEGIN:VCALENDAR
VERSION:2.0
PRODID:-//OR in Sports - ECPv6.15.13.1//NONSGML v1.0//EN
CALSCALE:GREGORIAN
METHOD:PUBLISH
X-ORIGINAL-URL:https://www.euro-online.org/websites/orinsports
X-WR-CALDESC:Events for OR in Sports
REFRESH-INTERVAL;VALUE=DURATION:PT1H
X-Robots-Tag:noindex
X-PUBLISHED-TTL:PT1H
BEGIN:VTIMEZONE
TZID:UTC
BEGIN:STANDARD
TZOFFSETFROM:+0000
TZOFFSETTO:+0000
TZNAME:UTC
DTSTART:20200101T000000
END:STANDARD
END:VTIMEZONE
BEGIN:VEVENT
DTSTART;VALUE=DATE:20210821
DTEND;VALUE=DATE:20210824
DTSTAMP:20260422T111423
CREATED:20210323T102920Z
LAST-MODIFIED:20210323T102920Z
UID:750-1629504000-1629763199@www.euro-online.org
SUMMARY:AI for Sports Analytics workshop
DESCRIPTION:The past decade has seen a tremendous growth of interest in sports analytics\, not only from an economic and commercial perspective\, but also from a purely scientific one. In fact\, there has been a growing number of papers published at top artificial intelligence (AI) and machine learning venues that revolve around problems in sports\, as well as multiple scientific events organized on the topic. Similar to other downstream domains that have benefited from advances of AI and machine learning\, this growth in interest is due to important technological improvements in data collection and processing capabilities\, progress in statistical learning and in particular deep learning\, increased computational resources\, and ever-growing economic activities associated with sports and culture (e.g.\, emergent consultancy ventures revolving around sports data collection and statistics). \nThe purpose of this workshop on AI for Sports Analytics is to bring together AI researchers\, sports data scientists\, and other stakeholders who are interested in the intersection of AI and sports. In particular\, we are interested in attracting work that focuses on the overlap of multiple areas of AI such as machine learning\, game theory\, and computer vision and their application to the sports analytics domain. We also plan to have a strong list of invited speakers\, participant interaction\, and panel discussions. \nThe workshop will be organized at the International Joint Conference on Artificial Intelligence (IJCAI 2021); it will be virtual. \nPlease see the conference website for more details and the call for papers: https://sites.google.com/view/ijcai-aisa-2021/home?authuser=0 \nSubmissions will be handled via EasyChair: https://easychair.org/conferences/?conf=aisa2021
URL:https://www.euro-online.org/websites/orinsports/event/ai-for-sports-analytics-workshop/
CATEGORIES:Conferences
ATTACH;FMTTYPE=image/jpeg:https://www.euro-online.org/websites/orinsports/wp-content/uploads/sites/10/2021/01/Online.jpg
END:VEVENT
END:VCALENDAR