BEGIN:VCALENDAR
VERSION:2.0
PRODID:-//OR in Sports - ECPv6.15.13.1//NONSGML v1.0//EN
CALSCALE:GREGORIAN
METHOD:PUBLISH
X-WR-CALNAME:OR in Sports
X-ORIGINAL-URL:https://www.euro-online.org/websites/orinsports
X-WR-CALDESC:Events for OR in Sports
REFRESH-INTERVAL;VALUE=DURATION:PT1H
X-Robots-Tag:noindex
X-PUBLISHED-TTL:PT1H
BEGIN:VTIMEZONE
TZID:UTC
BEGIN:STANDARD
TZOFFSETFROM:+0000
TZOFFSETTO:+0000
TZNAME:UTC
DTSTART:20190101T000000
END:STANDARD
END:VTIMEZONE
BEGIN:VEVENT
DTSTART;VALUE=DATE:20200528
DTEND;VALUE=DATE:20200530
DTSTAMP:20260423T093523
CREATED:20191018T123903Z
LAST-MODIFIED:20191018T123933Z
UID:660-1590624000-1590796799@www.euro-online.org
SUMMARY:5th International Conference on Sport Economics & Sport Management (SESM)
DESCRIPTION:On behalf of the organizing committee\, we would like to invite you to submit a paper to the \n5th International Conference on Sport Economics & Sport Management (SESM) \nwhich will take place @Université Paris 1 Panthéon Sorbonne on the 28th/29th of May 2020 in Paris (France). You can find all information via http://sesmberlin.wix.com/smse \na Call for Papers is attached. Please be aware of the submission deadline: December 31st\, 2019. We would be delighted to welcome you next year in Paris. \nWe are looking forward to your decision! \n  \nCall for Papers: The conference will provide a platform for exchanging innovative thoughts and creating cooperation between researchers in the fields of sport management and economics. We are inviting proposals for paper presentations as well as complete sessions consisting out of three papers/presenters. This conference provides researchers with an opportunity to present theoretical\, empirical\, and policy‐oriented research. \nOrganizing Committee:Prof. Dr. Pierre-Charles Pradier  & Prof. Dr. Georg Stadtmann \nProgram Committee: Wladimir Andreff (Paris) ∙ Eike Emrich (Saarbrücken) ∙ Christian Pierdzioch (Hamburg) ∙ Stefan Szymanski (Michigan) ∙ Christian Dreger (Berlin) ∙ Georg Stadtmann (Frankfurt/Oder) ∙ Tim Pawlowski (Tübingen) ∙ Alexander Ferrauti (Bochum) ∙ Oliver Budzinski (Ilmenau) ∙ Bernd Frick (Paderborn) ∙ Gerd G. Wagner (Berlin) ∙ Markus Kurscheidt (Bayreuth) ∙ Joel G. Maxcy (Phiadelphia)∙ Martin Falk (Vienna) ∙ Martin Kocher (Vienna) ∙  Luc Arrondel (Paris) ∙ Jean‐François Brocard (IASE) ∙ Richard Duhautois (CNAM) ∙ Oskar Kowalewski (Paris) \nDeadline for paper submission: Dec. 31st\, 2019.
URL:https://www.euro-online.org/websites/orinsports/event/660/
LOCATION:Paris\, France
CATEGORIES:Conferences
ATTACH;FMTTYPE=image/jpeg:https://www.euro-online.org/websites/orinsports/wp-content/uploads/sites/10/2019/10/shutterstock_581372950-800x450.jpg
END:VEVENT
END:VCALENDAR