BEGIN:VCALENDAR
VERSION:2.0
PRODID:-//OR in Sports - ECPv6.15.13.1//NONSGML v1.0//EN
CALSCALE:GREGORIAN
METHOD:PUBLISH
X-ORIGINAL-URL:https://www.euro-online.org/websites/orinsports
X-WR-CALDESC:Events for OR in Sports
REFRESH-INTERVAL;VALUE=DURATION:PT1H
X-Robots-Tag:noindex
X-PUBLISHED-TTL:PT1H
BEGIN:VTIMEZONE
TZID:UTC
BEGIN:STANDARD
TZOFFSETFROM:+0000
TZOFFSETTO:+0000
TZNAME:UTC
DTSTART:20170101T000000
END:STANDARD
END:VTIMEZONE
BEGIN:VEVENT
DTSTART;VALUE=DATE:20180604
DTEND;VALUE=DATE:20180609
DTSTAMP:20260424T224201
CREATED:20180416T160703Z
LAST-MODIFIED:20180416T160703Z
UID:354-1528070400-1528502399@www.euro-online.org
SUMMARY:Bayesian statistical modelling and analysis in sport
DESCRIPTION:ABS18\, the 15th Applied Bayesian Statistics summer school \nProfessor of Statistics\, \nLecturer: Kerrie MENGERSEN\, Distinguished Professor of Statistics\,\nQueensland University of Technology\, Brisbane\, Australia. \nPractical sessions: Paul WU\, Research Fellow\, Queensland University of\nTechnology\, Brisbane\, Australia. \nFees (if paid by 8/4/2018): \n– EUR 300 (22% VAT included) students and postdocs\n– EUR 450 (368.85 + 22% VAT) people from academic and non-profit organisations\n– EUR 900 (737.70 + 22% VAT) all the others \nItalian public employees are exempt from VAT.
URL:https://www.euro-online.org/websites/orinsports/event/bayesian-statistical-modelling-and-analysis-in-sport/
LOCATION:Villa del Grumello\, Como\, Italy
CATEGORIES:Summer School
END:VEVENT
BEGIN:VEVENT
DTSTART;VALUE=DATE:20180604
DTEND;VALUE=DATE:20180607
DTSTAMP:20260424T224201
CREATED:20180416T160945Z
LAST-MODIFIED:20180416T162844Z
UID:357-1528070400-1528329599@www.euro-online.org
SUMMARY:Canadian Operations Research Conference - Sport Analytics
DESCRIPTION:Professors Timothy Chan (University of Toronto) and Martin Puterman (UBC) will be organizing the sports analytics cluster of the Canadian OR Society conference. They invite you to submit sports talks. Please contact them directly if interested.
URL:https://www.euro-online.org/websites/orinsports/event/canadian-operations-research-conference-sport-analytics/
LOCATION:Halifax\, Halifax\, Canada
CATEGORIES:Conferences
END:VEVENT
BEGIN:VEVENT
DTSTART;TZID=UTC:20180605T100000
DTEND;TZID=UTC:20180605T170000
DTSTAMP:20260424T224201
CREATED:20180507T094405Z
LAST-MODIFIED:20180507T095914Z
UID:480-1528192800-1528218000@www.euro-online.org
SUMMARY:Fairness in Sports and Games Workshop
DESCRIPTION:We would like to invite you to attend the Fairness in Sports and Games Workshop\, organized by Dr. Mehmet Ismail\, which will take place at King’s College London on 5 June 10:00 – 17:00. \nSports and games continue to provide fantastic challenges in many fields including Mathematical\, Natural\, and Social Sciences. This interdisciplinary event aims to bring together researchers from these fields and practitioners. \nInvited Speakers / Participants (by alphabetical order): \n• John D. Barrow (University of Cambridge)\n• Ian Braid (Former Head of the British Athletes’ Commission)\n• Steven J. Brams (New York University)\n• Silvia Camporesi (King’s College London)\n• Frank Duckworth (Retired Statistician)\n• David Elleray (Technical Director at International Football Association Board)\n• Dries Goossens (Ghent University)\n• John Haigh (University of Sussex)\n• Philip A. Scarf (Salford Business School)\n• Andrew Shelley (CEO at World Squash Federation)\n• Walter Stromquist (Past Editor of Mathematics Magazine) \nPlease see the webpage of the workshop for more details \nIf you plan to join the event\, please register here by 18 May (for catering purposes). \nThe workshop is sponsored by the School of Politics and Economics at King’s College London\, and the EURO working group OR in Sports.
URL:https://www.euro-online.org/websites/orinsports/event/fairness-in-sports-and-games-workshop/
LOCATION:King’s College\, Bush House\, Strand Campus\, London\, United Kingdom
CATEGORIES:Workshop
END:VEVENT
BEGIN:VEVENT
DTSTART;VALUE=DATE:20180613
DTEND;VALUE=DATE:20180614
DTSTAMP:20260424T224201
CREATED:20180416T161253Z
LAST-MODIFIED:20180416T161253Z
UID:360-1528848000-1528934399@www.euro-online.org
SUMMARY:Economic (and) History of Sport
DESCRIPTION:One-day workshop on the economics and history of sport \nSport offers a rich history\, both social and economic. Sport also offers vast amounts of data on outcomes and inputs over many decades\, in addition to\nsubstantial archives. This one-day workshop brings together economists and historians united by an interest in sport and the role it has played over\nthe years\, both in the UK and more widely. \nSpeakers: \nProfessor Wray Vamplew (keynote) – Emeritus Professor of Sports History\, University of Stirling and Global; Professorial Fellow\, Academy of Sport\, University of Edinburgh\nDr Rafaelle Nicholson – Queen Mary University of London\nProfessor Dilwyn Porter – Professor of Sports History and Culture\, De Montfort University\nProfessor Robert Simmons – Professor of Economics\, Lancaster University Management School\nProfessor Stefan Szymanski – Stephen J. Galetti Collegiate Professor of Sport Management\, University of Michigan
URL:https://www.euro-online.org/websites/orinsports/event/economic-and-history-of-sport/
LOCATION:Henley Business School\, University of Reading\, United Kingdom
CATEGORIES:Workshop
END:VEVENT
BEGIN:VEVENT
DTSTART;VALUE=DATE:20180614
DTEND;VALUE=DATE:20180615
DTSTAMP:20260424T224201
CREATED:20180416T161352Z
LAST-MODIFIED:20180416T161352Z
UID:363-1528934400-1529020799@www.euro-online.org
SUMMARY:World Cup Workshop
DESCRIPTION:One-day workshop on the economics of football \nTo coincide with the opening of the 2018 Fifa World Cup in Russia\, one of sport’s largest global events\, we present a collection of research papers\npresented by leading sports economists. These papers all either have a particular application to football or use football as a context in which to study\neconomic theories and behaviour in more detail. \nSpeakers: \nProfessor Stefan Szymanski (keynote) – Stephen J. Galetti Collegiate Professor of Sport Management\, University of Michigan\nProfessor Adrian R Bell – Chair in the History of Finance and Head of ICMA Centre\, Henley Business School\, University of Reading\nProfessor Alex Bryson – Chair of Quantitative Social Science\, UCL\nDr Babatunde Buraimo – Senior Lecturer in Sports Management\, University of Liverpool\nDr Adam Cox – Senior Lecturer in Economics and Finance\, Portsmouth Business School\nProf Bernd Frick – Professor of Organizational and Media Economics\, University of Paderborn
URL:https://www.euro-online.org/websites/orinsports/event/world-cup-workshop/
LOCATION:Henley Business School\, University of Reading\, United Kingdom
CATEGORIES:Workshop
END:VEVENT
BEGIN:VEVENT
DTSTART;VALUE=DATE:20180621
DTEND;VALUE=DATE:20180622
DTSTAMP:20260424T224201
CREATED:20180416T161611Z
LAST-MODIFIED:20180416T161611Z
UID:365-1529539200-1529625599@www.euro-online.org
SUMMARY:Great Lakes Analytics in Sports Conference
DESCRIPTION:The Great Lakes Analytics in Sports Conference\, sponsored by the University of Wisconsin-Stevens Point\, is a one-day conference showcasing the latest concepts\, research and innovations in the fast-growing field of sports analytics. Featuring speakers and presenters from professional and college sports organizations\, the business sector and the academic community\, the conference will cover innovations and evolutions in strategy\, technology\, training and more. \nWho Should Attend\n\nStudents interested in pursuing a career in sports and athletics: competing\, coaching\, training\, management\, media.\nStudents interested in pursuing a career in data analytics.\nStudents and faculty interested in presenting research related to sports\, athletics\, or data analytics.\nCoaches and administrators looking to gain a competitive advantage by staying abreast of the latest developments in the fast-growing field of sports analytics.\nProfessionals in the sports analytics field interested in new research ideas.\nBusinesses looking for analytics talent to add to their team.\n\nResearch Presentations\nThe conference will feature an opportunity for students and faculty to present posters or oral presentations on sports analytics topics in fields as diverse as mathematics\, athletic training\, business\, psychology\, biology\, computer science\, GIS\, technnology\, journalism and data visualization. To submit a talk or poster\, click here. Deadline is April 16. \nRegistration\nRegistration fees for the Great Lakes Analytics in Sports Conference are: \n\n$29 Student\n$79 Non-student\n\nDiscounts are available for groups of 3-5 or 6 or more attendees.
URL:https://www.euro-online.org/websites/orinsports/event/great-lakes-analytics-in-sports-conference/
LOCATION:University of Wisconsin – Stevens Point\, United States
CATEGORIES:Conferences
END:VEVENT
BEGIN:VEVENT
DTSTART;VALUE=DATE:20180626
DTEND;VALUE=DATE:20180629
DTSTAMP:20260424T224201
CREATED:20180416T173241Z
LAST-MODIFIED:20180416T173241Z
UID:387-1529971200-1530230399@www.euro-online.org
SUMMARY:MathSport International 2017
DESCRIPTION:MathSport International is a biennal conference dedicated to all topics where mathematics and sport meet. \nMathsport International 2017\, will be hosted by hosted by Padua University (Italy)\, from Monday 26th June to Wednesday 28th June 2017. It will be the 6th conference in Europe that brings together Maths and Sport. Previous conferences have been organised by the Institute of Mathematics and Its Applications (IMA)\, by KU Leuven and by Loughborough University. \nImportant dates: \nJanuary 30th\, 2017: Abstraction submission deadline\nFebruary 24th\, 2017: Notification of acceptance\nApril 24th\, 2017: Submission of proceedings paper\nMay 15th\, 2017: Early registration deadline\nJune 26th-28th\, 2017: Conference \nCheck out the conference poster. \nFor more info: mathsportinternational2017@math.unipd.it
URL:https://www.euro-online.org/websites/orinsports/event/mathsport-international-2017/
LOCATION:Orto Botanico (Botanical Garden) (UNESCO site) of University of Padova\, Padua\, Italy
CATEGORIES:Conferences
END:VEVENT
END:VCALENDAR