BEGIN:VCALENDAR
VERSION:2.0
PRODID:-//OR in Sports - ECPv6.15.13.1//NONSGML v1.0//EN
CALSCALE:GREGORIAN
METHOD:PUBLISH
X-ORIGINAL-URL:https://www.euro-online.org/websites/orinsports
X-WR-CALDESC:Events for OR in Sports
REFRESH-INTERVAL;VALUE=DURATION:PT1H
X-Robots-Tag:noindex
X-PUBLISHED-TTL:PT1H
BEGIN:VTIMEZONE
TZID:UTC
BEGIN:STANDARD
TZOFFSETFROM:+0000
TZOFFSETTO:+0000
TZNAME:UTC
DTSTART:20160101T000000
END:STANDARD
END:VTIMEZONE
BEGIN:VEVENT
DTSTART;VALUE=DATE:20170923
DTEND;VALUE=DATE:20170924
DTSTAMP:20260425T150755
CREATED:20180416T174903Z
LAST-MODIFIED:20180416T174903Z
UID:404-1506124800-1506211199@www.euro-online.org
SUMMARY:The 2017 New England Symposium on Statistics in Sports
DESCRIPTION:2017 New England Symposium on Statistics in Sports will be a meeting of statisticians\, statistical researchers\, and quantitative analysts connected with sports teams\, sports media\, and universities to discuss common problems of interest in statistical modeling and analysis of sports data. The symposium format will be a mixture of invited talks\, a poster session\, and a panel discussion.
URL:https://www.euro-online.org/websites/orinsports/event/the-2017-new-england-symposium-on-statistics-in-sports/
LOCATION:Harvard University\, Cambridge\, Massachussets\, United States
CATEGORIES:Conferences
END:VEVENT
END:VCALENDAR