BEGIN:VCALENDAR
VERSION:2.0
PRODID:-//OR in Sports - ECPv6.15.13.1//NONSGML v1.0//EN
CALSCALE:GREGORIAN
METHOD:PUBLISH
X-ORIGINAL-URL:https://www.euro-online.org/websites/orinsports
X-WR-CALDESC:Events for OR in Sports
REFRESH-INTERVAL;VALUE=DURATION:PT1H
X-Robots-Tag:noindex
X-PUBLISHED-TTL:PT1H
BEGIN:VTIMEZONE
TZID:UTC
BEGIN:STANDARD
TZOFFSETFROM:+0000
TZOFFSETTO:+0000
TZNAME:UTC
DTSTART:20210101T000000
END:STANDARD
END:VTIMEZONE
BEGIN:VEVENT
DTSTART;VALUE=DATE:20221213
DTEND;VALUE=DATE:20221215
DTSTAMP:20260421T194023
CREATED:20221125T203615Z
LAST-MODIFIED:20221125T203615Z
UID:850-1670889600-1671062399@www.euro-online.org
SUMMARY:2nd Reading Football Economics Workshop
DESCRIPTION:On December 13 and 14 2022\, the Sport Cluster of the Department of Economics at the University of Reading will host the 2nd Reading Football Economics Workshop. \nTopics include work that uses football (however liberally defined)\, and has some economic content or motivation (again\, the definition will be liberal). \nWe are very pleased that Christina Philippou of the University of Portsmouth\, Jorge Tovar of Universidad de Los Andes in Colombia\, and Justus Haucap of Heinrich Heine University Düsseldorf will be our keynote speakers. \n  \nThis two day event will take place on the two days of the FIFA Men’s World Cup Semi Finals\, and social events will involve viewing those two events. We anticipate watching the two games in The Dairy\, which serves food and good beer options at the heart of our London Road Campus. \nRegistration: Registration opens November 8 https://forms.office.com/r/yAXAP7kLKw. \nConference Location: London Road Campus\, University of Reading. \nMore information: https://research.reading.ac.uk/economics/event/2rfew/
URL:https://www.euro-online.org/websites/orinsports/event/2nd-reading-football-economics-workshop/
LOCATION:Reading\, Whiteknights Campus\, Reading\, United Kingdom
CATEGORIES:Conferences
ATTACH;FMTTYPE=image/png:https://www.euro-online.org/websites/orinsports/wp-content/uploads/sites/10/2022/11/FootballEconomicsWorkshop.png
END:VEVENT
END:VCALENDAR