BEGIN:VCALENDAR
VERSION:2.0
PRODID:-//OR in Sports - ECPv6.15.13.1//NONSGML v1.0//EN
CALSCALE:GREGORIAN
METHOD:PUBLISH
X-WR-CALNAME:OR in Sports
X-ORIGINAL-URL:https://www.euro-online.org/websites/orinsports
X-WR-CALDESC:Events for OR in Sports
REFRESH-INTERVAL;VALUE=DURATION:PT1H
X-Robots-Tag:noindex
X-PUBLISHED-TTL:PT1H
BEGIN:VTIMEZONE
TZID:UTC
BEGIN:STANDARD
TZOFFSETFROM:+0000
TZOFFSETTO:+0000
TZNAME:UTC
DTSTART:20220101T000000
END:STANDARD
END:VTIMEZONE
BEGIN:VEVENT
DTSTART;VALUE=DATE:20230923
DTEND;VALUE=DATE:20230924
DTSTAMP:20260421T040755
CREATED:20230320T175711Z
LAST-MODIFIED:20230320T175711Z
UID:863-1695427200-1695513599@www.euro-online.org
SUMMARY:New England Symposium on Statistics in Sports (NESSIS)
DESCRIPTION:The 2023 New England Symposium on Statistics in Sports will be a meeting of statisticians and quantitative analysts connected with sports teams\, sports media\, and universities to discuss common problems of interest in statistical modeling and analysis of sports data. The symposium format will be a mixture of invited talks\, a poster session\, and a panel discussion. \nAbstract submission is now open (deadline July 15\, 2023).\nStudents in particular are encouraged to submit abstracts; a prize will be awarded to the best student poster as decided by a panel of judges. \nNESSIS registration is now open.
URL:https://www.euro-online.org/websites/orinsports/event/new-england-symposium-on-statistics-in-sports-nessis/
LOCATION:Cambridge\, Massachusetts\, 1 Oxford Street\, MA\, United States
CATEGORIES:Conferences
ATTACH;FMTTYPE=image/png:https://www.euro-online.org/websites/orinsports/wp-content/uploads/sites/10/2019/01/Nessis.png
END:VEVENT
END:VCALENDAR