BEGIN:VCALENDAR
VERSION:2.0
PRODID:-//OR in Sports - ECPv6.15.13.1//NONSGML v1.0//EN
CALSCALE:GREGORIAN
METHOD:PUBLISH
X-WR-CALNAME:OR in Sports
X-ORIGINAL-URL:https://www.euro-online.org/websites/orinsports
X-WR-CALDESC:Events for OR in Sports
REFRESH-INTERVAL;VALUE=DURATION:PT1H
X-Robots-Tag:noindex
X-PUBLISHED-TTL:PT1H
BEGIN:VTIMEZONE
TZID:UTC
BEGIN:STANDARD
TZOFFSETFROM:+0000
TZOFFSETTO:+0000
TZNAME:UTC
DTSTART:20230101T000000
END:STANDARD
END:VTIMEZONE
BEGIN:VEVENT
DTSTART;VALUE=DATE:20240507
DTEND;VALUE=DATE:20240509
DTSTAMP:20260420T084937
CREATED:20240228T175508Z
LAST-MODIFIED:20240228T175508Z
UID:894-1715040000-1715212799@www.euro-online.org
SUMMARY:3rd Reading Football Economics Conference & 7th Sport Economics Sport Management Conference
DESCRIPTION:On May 7-8 2024 the Department of Economics at the University of Reading will host the 3rd Reading Football Economics Conference and the 7th Sport Economics Sport Management International Conference in conjunction with the International Association of Sports Economists (https://www.iase-sport.org) concurrently. This event is generously sponsored by the Sports Economics Review\, published by Elsevier\, and the keynote speaker for the event will be Colin Camerer\, of the California Institute of Technology. \nWe invite submissions in all areas of sport\, and areas of economics and management where a sporting application yields significant insight. Presentations on May 7-8 will be organised into sessions relating to the two conferences taking place at the same time in Reading. Depending on the volume of submissions\, parallel sessions may be organised. \nKeynote speakers\, and details regarding any (small) conference fees and any associated conference events\, will be confirmed in due course. \nSubmissions should be made here: https://forms.office.com/e/QajUZrXcLx.
URL:https://www.euro-online.org/websites/orinsports/event/3rd-reading-football-economics-conference-7th-sport-economics-sport-management-conference/
LOCATION:Reading\, Whiteknights Campus\, Reading\, United Kingdom
CATEGORIES:Conferences
ATTACH;FMTTYPE=image/jpeg:https://www.euro-online.org/websites/orinsports/wp-content/uploads/sites/10/2024/02/3RFEC-7SESM-poster.jpg
END:VEVENT
END:VCALENDAR