BEGIN:VCALENDAR
VERSION:2.0
PRODID:-//OR in Sports - ECPv6.15.13.1//NONSGML v1.0//EN
CALSCALE:GREGORIAN
METHOD:PUBLISH
X-ORIGINAL-URL:https://www.euro-online.org/websites/orinsports
X-WR-CALDESC:Events for OR in Sports
REFRESH-INTERVAL;VALUE=DURATION:PT1H
X-Robots-Tag:noindex
X-PUBLISHED-TTL:PT1H
BEGIN:VTIMEZONE
TZID:UTC
BEGIN:STANDARD
TZOFFSETFROM:+0000
TZOFFSETTO:+0000
TZNAME:UTC
DTSTART:20220101T000000
END:STANDARD
END:VTIMEZONE
BEGIN:VEVENT
DTSTART;VALUE=DATE:20230504
DTEND;VALUE=DATE:20230505
DTSTAMP:20260421T040238
CREATED:20230320T180208Z
LAST-MODIFIED:20230320T180336Z
UID:866-1683158400-1683244799@www.euro-online.org
SUMMARY:7th AUEB Sports Analytics Workshop
DESCRIPTION:The Sports Analytics Group of the Department of Statistics of Athens University of Economics & Business (AUEB) \nannounces the \n7th AUEB Sports Analytics Workshop (AUEB SAW2023) \nwhich will be hosted live at AUEB\, Athens (Greece) on the evenings of Thursday 3rd and Friday 4th of May 2023 (Exact times will be announced soon).\nThe workshop will be also accompanied by a virtual short course on Football Analytics (2-3 May 2023). \nTopics of the workshop include: \n***   Mathematical and physical models in sports\n***   Performance measures and models\n***   Optimisation of sports performance\n***   Statistics and probability models\n***   Match outcome models\n***   Competitive strategy\n***   Game theoretical models\n***   Optimal tournament design and scheduling\,\n***   Decision support systems\n***   Econometrics in sport\n***   Analysis of sporting technologies\n***   Computationally intensive methods\n***   Financial valuation in sport \nA limited number of contributed talks will be accepted. In case you wish to contribute a talk. Please submit your contributed talk here https://tinyurl.com/SAW2023-abstract by 30/3/2023. Notification of acceptance or rejection will be as soon as possible and before 10/4/2023. \nApply now here https://aueb-analytics.wixsite.com/saw2023/registration . \nEarly registration will be available until Sunday 23rd of April 2023. \nA limited number of positions is available.
URL:https://www.euro-online.org/websites/orinsports/event/7th-aueb-sports-analytics-workshop/
LOCATION:Athens\, Athens\, Greece
CATEGORIES:Conferences
ATTACH;FMTTYPE=image/jpeg:https://www.euro-online.org/websites/orinsports/wp-content/uploads/sites/10/2023/03/new_po12.jpg
END:VEVENT
END:VCALENDAR