BEGIN:VCALENDAR
VERSION:2.0
PRODID:-//OR in Sports - ECPv6.15.13.1//NONSGML v1.0//EN
CALSCALE:GREGORIAN
METHOD:PUBLISH
X-ORIGINAL-URL:https://www.euro-online.org/websites/orinsports
X-WR-CALDESC:Events for OR in Sports
REFRESH-INTERVAL;VALUE=DURATION:PT1H
X-Robots-Tag:noindex
X-PUBLISHED-TTL:PT1H
BEGIN:VTIMEZONE
TZID:UTC
BEGIN:STANDARD
TZOFFSETFROM:+0000
TZOFFSETTO:+0000
TZNAME:UTC
DTSTART:20210101T000000
END:STANDARD
END:VTIMEZONE
BEGIN:VEVENT
DTSTART;VALUE=DATE:20220924
DTEND;VALUE=DATE:20220925
DTSTAMP:20260421T163023
CREATED:20220318T171948Z
LAST-MODIFIED:20220318T172045Z
UID:809-1663977600-1664063999@www.euro-online.org
SUMMARY:Cascadia Symposium on Statistics in Sports
DESCRIPTION:The 2022 Cascadia Symposium on Statistics in Sports is a meeting of statisticians and quantitative analysts connected with sports teams\, sports media\, and universities to discuss common problems of interest in statistical modeling and analysis of sports data. The symposium format is a mixture of invited talks\, a poster session\, and a panel discussion. The meeting will be held at Harbour Centre. \nTo be considered for an oral presentation\, please email an abstract in pdf format (max 2 pages) to cascadia-sports@sfu.ca by May 15\, 2022. Be sure to include your name\, affiliation\, and contact information in the email. \nAbstracts will be reviewed by May 31. Note that there will be a poster session for those not accepted as oral presentations. For more details\, visit http://www.cascadiasports.com
URL:https://www.euro-online.org/websites/orinsports/event/cascadia-symposium-on-statistics-in-sports-2/
LOCATION:Vancouver (Canada)\, Vancouver\, Canada
CATEGORIES:Conferences
ATTACH;FMTTYPE=image/jpeg:https://www.euro-online.org/websites/orinsports/wp-content/uploads/sites/10/2022/03/download.jpg
END:VEVENT
END:VCALENDAR