BEGIN:VCALENDAR
VERSION:2.0
PRODID:-//OR in Sports - ECPv6.15.13.1//NONSGML v1.0//EN
CALSCALE:GREGORIAN
METHOD:PUBLISH
X-WR-CALNAME:OR in Sports
X-ORIGINAL-URL:https://www.euro-online.org/websites/orinsports
X-WR-CALDESC:Events for OR in Sports
REFRESH-INTERVAL;VALUE=DURATION:PT1H
X-Robots-Tag:noindex
X-PUBLISHED-TTL:PT1H
BEGIN:VTIMEZONE
TZID:UTC
BEGIN:STANDARD
TZOFFSETFROM:+0000
TZOFFSETTO:+0000
TZNAME:UTC
DTSTART:20210101T000000
END:STANDARD
END:VTIMEZONE
BEGIN:VEVENT
DTSTART;VALUE=DATE:20220703
DTEND;VALUE=DATE:20220707
DTSTAMP:20260421T193550
CREATED:20211014T132639Z
LAST-MODIFIED:20211014T133005Z
UID:779-1656806400-1657151999@www.euro-online.org
SUMMARY:OR in Sports at EURO XXXII in Espoo (Finland)
DESCRIPTION:The EURO working group “OR in Sports” will be organizing a stream on OR in Sports\, as part of the EURO Conference\, July 3-6 2022 in Espoo\, Finland (more information about the conference can be found at https://euro2022espoo.com/).  We are aiming for a sports track covering various applications and methodologies (e.g. optimization\, statistics\, analytics\, …)\, much like the sessions we had at the previous EURO conferences in Dublin\, Valencia\, Poznan and Athens (online) in previous years. \nMore details on abstract submission will be released soon\, but save the date (3-6 July\, 2022) if you are interested.
URL:https://www.euro-online.org/websites/orinsports/event/or-in-sports-at-euro-xxxii-in-espoo-finland/
LOCATION:Aalto University\, Espoo\, Finland\, Finland
CATEGORIES:Conferences
ATTACH;FMTTYPE=image/jpeg:https://www.euro-online.org/websites/orinsports/wp-content/uploads/sites/10/2021/10/Espoo.jpg
END:VEVENT
END:VCALENDAR