BEGIN:VCALENDAR
VERSION:2.0
PRODID:-//OR in Sports - ECPv6.15.13.1//NONSGML v1.0//EN
CALSCALE:GREGORIAN
METHOD:PUBLISH
X-ORIGINAL-URL:https://www.euro-online.org/websites/orinsports
X-WR-CALDESC:Events for OR in Sports
REFRESH-INTERVAL;VALUE=DURATION:PT1H
X-Robots-Tag:noindex
X-PUBLISHED-TTL:PT1H
BEGIN:VTIMEZONE
TZID:UTC
BEGIN:STANDARD
TZOFFSETFROM:+0000
TZOFFSETTO:+0000
TZNAME:UTC
DTSTART:20200101T000000
END:STANDARD
END:VTIMEZONE
BEGIN:VEVENT
DTSTART;VALUE=DATE:20211001
DTEND;VALUE=DATE:20211030
DTSTAMP:20260422T094727
CREATED:20210406T185303Z
LAST-MODIFIED:20211014T132316Z
UID:758-1633046400-1635551999@www.euro-online.org
SUMMARY:2021 New England Symposium on Statistics In Sports
DESCRIPTION:The 2021 New England Symposium on Statistics in Sports is a meeting of statisticians and quantitative analysts connected with sports teams\, sports media\, and universities to discuss common problems of interest in statistical modeling and analysis of sports data. The symposium format for 2021 will be a series of online talks during the month of October\, 2021. \nThe meeting will be virtual\, but will take place on consecutive Friday afternoons throughout the month of October\, 2021. Each session will be 90 minutes long and held on Zoom. Registration will be free. \nThe full program can be found here.
URL:https://www.euro-online.org/websites/orinsports/event/2021-new-england-symposium-on-statistics-in-sports/
CATEGORIES:Conferences
ATTACH;FMTTYPE=image/jpeg:https://www.euro-online.org/websites/orinsports/wp-content/uploads/sites/10/2021/01/Online.jpg
END:VEVENT
END:VCALENDAR