BEGIN:VCALENDAR
VERSION:2.0
PRODID:-//OR in Sports - ECPv6.15.13.1//NONSGML v1.0//EN
CALSCALE:GREGORIAN
METHOD:PUBLISH
X-ORIGINAL-URL:https://www.euro-online.org/websites/orinsports
X-WR-CALDESC:Events for OR in Sports
REFRESH-INTERVAL;VALUE=DURATION:PT1H
X-Robots-Tag:noindex
X-PUBLISHED-TTL:PT1H
BEGIN:VTIMEZONE
TZID:UTC
BEGIN:STANDARD
TZOFFSETFROM:+0000
TZOFFSETTO:+0000
TZNAME:UTC
DTSTART:20200101T000000
END:STANDARD
END:VTIMEZONE
BEGIN:VEVENT
DTSTART;VALUE=DATE:20210711
DTEND;VALUE=DATE:20210715
DTSTAMP:20260422T140432
CREATED:20210127T165459Z
LAST-MODIFIED:20210406T181052Z
UID:720-1625961600-1626307199@www.euro-online.org
SUMMARY:OR in Sports at EURO 2021
DESCRIPTION:The EURO working group “OR in Sports” is organizing a stream on OR in Sports\, as part of the EURO Conference\, July 11-14 2021 in Athens\, Greece (more information about the conference can be found at http://euro2021athens.com/).  We are aiming for a sports track covering various applications and methodologies (e.g. optimization\, statistics\, analytics\, …)\, much like the sessions we had at the previous EURO conferences in Dublin\, Valencia and Poznan. \nGiven the covid-19 pandemic\, the conference will be organaized in HYBRID way (both physical and virtual attendance). In this context\, sessions will be created either with physical presence or with remote participation of the delegates. Also\, when setting up the schedule\, the different time zones of the participants will be considered\, so that they take place at appropriate times. In this way we give the opportunity to the participants\, the choice of how to participate in it. Thus\, each participant can submit his / her work to the conference\, according to the program\, and decide how to participate later at the time of registration. \nNevertheless\, we would like to invite you to submit an abstract to the “OR in sports” stream. You can do this by going to the abstract submission page https://www.euro-online.org/conf/euro31 and use the following invitation code: 09d2f244. \nThe deadline for abstract submission has been extended to May 2\, 2021.
URL:https://www.euro-online.org/websites/orinsports/event/or-in-sports-at-euro-2021/
LOCATION:Athens\, Athens\, Greece
CATEGORIES:Conferences
ATTACH;FMTTYPE=image/jpeg:https://www.euro-online.org/websites/orinsports/wp-content/uploads/sites/10/2016/12/Athens_Blog.jpg
END:VEVENT
END:VCALENDAR