BEGIN:VCALENDAR
VERSION:2.0
PRODID:-//OR in Sports - ECPv6.15.13.1//NONSGML v1.0//EN
CALSCALE:GREGORIAN
METHOD:PUBLISH
X-WR-CALNAME:OR in Sports
X-ORIGINAL-URL:https://www.euro-online.org/websites/orinsports
X-WR-CALDESC:Events for OR in Sports
REFRESH-INTERVAL;VALUE=DURATION:PT1H
X-Robots-Tag:noindex
X-PUBLISHED-TTL:PT1H
BEGIN:VTIMEZONE
TZID:UTC
BEGIN:STANDARD
TZOFFSETFROM:+0000
TZOFFSETTO:+0000
TZNAME:UTC
DTSTART:20200101T000000
END:STANDARD
END:VTIMEZONE
BEGIN:VEVENT
DTSTART;VALUE=DATE:20210702
DTEND;VALUE=DATE:20210704
DTSTAMP:20260422T140310
CREATED:20210406T184038Z
LAST-MODIFIED:20210406T184038Z
UID:756-1625184000-1625356799@www.euro-online.org
SUMMARY:5th Eastern Conference on Football Economics - 7th Western Conference on Football and Finance
DESCRIPTION:HSE University\, New Economic School\, University of Reading\, and Paderborn University are organizing a conference on the economics and finance of football. It is aimed to highlight high quality research of the football industry as well as to facilitate the cooperation between academics and practitioners. \nThe organizers invite researchers to submit full papers for presentation. Theoretical and empirical research papers that cover the economic\, financial\, social\, and managerial aspects of the football industry are welcome. The list of possible topics includes\, but is not limited to: success factors in football\, football league regulations\, financial fair-play\, tournament design\, contest theory\, optimization of match strategies\, corruption\, betting\, spectators’ demand\, financial and social issues of the World Cup\, scheduling\, referee assignments\, and competitive balance. \nOne of the principal goals of the conference is to provide each speaker the detailed feedback from the communities of sports economists and people working in the field of operations research in sports. For that purpose\, full text of the paper must be submitted through EasyChair by May 15\, 2021. Notifications of acceptance will be sent no later than June 10\, 2021. The program committee will assign a discussant to each paper by June 11\, 2021. Each conference speaker is expected to serve as a discussant for one other paper. Full papers will NOT be published anywhere; each full paper will be sent to one discussant. Submission link is https://easychair.org/conferences/?conf=footecfin2021 \nPlenary lectures will be delivered by Helmut Dietl (University of Zurich)\, Bernd Frick (Paderborn University)\, Alex Krumer (Molde University College)\, and Celso Ribeiro (Fluminense Federal University). \nFor more information about the conference\, please visit the website https://www.footballeconomics.ru/ If you have any questions\, please contact Dr. Dmitry Dagaev (dagaev@hse.ru).
URL:https://www.euro-online.org/websites/orinsports/event/5th-eastern-conference-on-football-economics-7th-western-conference-on-football-and-finance/
CATEGORIES:Conferences
ATTACH;FMTTYPE=image/jpeg:https://www.euro-online.org/websites/orinsports/wp-content/uploads/sites/10/2021/01/Online.jpg
END:VEVENT
END:VCALENDAR