BEGIN:VCALENDAR
VERSION:2.0
PRODID:-//OR in Sports - ECPv6.15.13.1//NONSGML v1.0//EN
CALSCALE:GREGORIAN
METHOD:PUBLISH
X-WR-CALNAME:OR in Sports
X-ORIGINAL-URL:https://www.euro-online.org/websites/orinsports
X-WR-CALDESC:Events for OR in Sports
REFRESH-INTERVAL;VALUE=DURATION:PT1H
X-Robots-Tag:noindex
X-PUBLISHED-TTL:PT1H
BEGIN:VTIMEZONE
TZID:UTC
BEGIN:STANDARD
TZOFFSETFROM:+0000
TZOFFSETTO:+0000
TZNAME:UTC
DTSTART:20190101T000000
END:STANDARD
END:VTIMEZONE
BEGIN:VEVENT
DTSTART;VALUE=DATE:20200716
DTEND;VALUE=DATE:20200718
DTSTAMP:20260423T080425
CREATED:20191204T092055Z
LAST-MODIFIED:20191204T092055Z
UID:667-1594857600-1595030399@www.euro-online.org
SUMMARY:Asia-Singapore Conference on Sport Science (ACSS 2020)
DESCRIPTION:Asia-Singapore Conference on Sport Science (ACSS 2020)\, themed “A Multidisciplinary Approach to Enhance Sport Performance”\, the two-day Conference will offer participants the opportunity to learn about the latest trends and best practices in the world of Sport Science. Leading academic scientists\, researchers and research scholars will attend to exchange and share their experiences and research results on all aspects of Sport Science. We encourage research papers and training approaches based on integrating different disciplines applied in Sport Science to enhance sport performance to be submitted to the conference. Expect presentations on the most recent innovations\, trends\, and concerns\, as well as practical challenges encountered and solutions adopted in the fields of Sport Science. \nJoin us for this exciting Conference in Singapore from 16th to 17th July 2020 at the Furama Riverfront Hotel. \nSpecial theme for ACSS: ‘A Multidisciplinary Approach to Enhance Sport Performance’\nWe welcome all papers on the topic of Sport Science to be presented at ACSS 2020.
URL:https://www.euro-online.org/websites/orinsports/event/asia-singapore-conference-on-sport-science-acss-2020/
LOCATION:Furama Riverfront\, Singapore\, Singapore\, Singapore
CATEGORIES:Conferences
ATTACH;FMTTYPE=image/jpeg:https://www.euro-online.org/websites/orinsports/wp-content/uploads/sites/10/2019/12/Singapore.jpg
END:VEVENT
END:VCALENDAR