BEGIN:VCALENDAR
VERSION:2.0
PRODID:-//OR in Sports - ECPv6.15.13.1//NONSGML v1.0//EN
CALSCALE:GREGORIAN
METHOD:PUBLISH
X-WR-CALNAME:OR in Sports
X-ORIGINAL-URL:https://www.euro-online.org/websites/orinsports
X-WR-CALDESC:Events for OR in Sports
REFRESH-INTERVAL;VALUE=DURATION:PT1H
X-Robots-Tag:noindex
X-PUBLISHED-TTL:PT1H
BEGIN:VTIMEZONE
TZID:UTC
BEGIN:STANDARD
TZOFFSETFROM:+0000
TZOFFSETTO:+0000
TZNAME:UTC
DTSTART:20180101T000000
END:STANDARD
END:VTIMEZONE
BEGIN:VEVENT
DTSTART;VALUE=DATE:20190928
DTEND;VALUE=DATE:20190929
DTSTAMP:20260423T233819
CREATED:20190131T151235Z
LAST-MODIFIED:20190131T151235Z
UID:601-1569628800-1569715199@www.euro-online.org
SUMMARY:2019 New England symposium on Statistics in Sports
DESCRIPTION:The 2019 New England Symposium on Statistics in Sports will be a meeting of statisticians\, statistical researchers\, and quantitative analysts connected with sports teams\, sports media\, and universities to discuss common problems of interest in statistical modeling and analysis of sports data. The symposium format will be a mixture of invited talks\, a poster session\, and a panel discussion. Students in particular are encouraged to submit abstracts; a prize will be awarded to the best student poster as decided by a panel of judges. \nRegistration is now open. Registration information\, including fees and methods of payment\, can be found at http://www.nessis.org/registration.html \nAbstracts for talks and posters are now requested; the submission deadline for abstracts is June 15\, 2019. \nDecisions for accepting abstracts will be made by June 30\, 2019. \nFurther details of the 2019 NESSIS are forthcoming. Complete up-to-date information will be posted at the 2019 NESSIS web site.\nPlease contact Mark Glickman (glickman@fas.harvard.edu) or Scott Evans (sevans@bsc.gwu.edu)\, the co-organizers of the symposium\, with any questions.
URL:https://www.euro-online.org/websites/orinsports/event/2019-new-england-symposium-on-statistics-in-sports/
LOCATION:Harvard University\, Cambridge\, Massachussets\, United States
CATEGORIES:Conferences
ATTACH;FMTTYPE=image/png:https://www.euro-online.org/websites/orinsports/wp-content/uploads/sites/10/2019/01/Nessis.png
END:VEVENT
END:VCALENDAR