BEGIN:VCALENDAR
VERSION:2.0
PRODID:-//OR in Sports - ECPv6.15.13.1//NONSGML v1.0//EN
CALSCALE:GREGORIAN
METHOD:PUBLISH
X-ORIGINAL-URL:https://www.euro-online.org/websites/orinsports
X-WR-CALDESC:Events for OR in Sports
REFRESH-INTERVAL;VALUE=DURATION:PT1H
X-Robots-Tag:noindex
X-PUBLISHED-TTL:PT1H
BEGIN:VTIMEZONE
TZID:UTC
BEGIN:STANDARD
TZOFFSETFROM:+0000
TZOFFSETTO:+0000
TZNAME:UTC
DTSTART:20180101T000000
END:STANDARD
END:VTIMEZONE
BEGIN:VEVENT
DTSTART;VALUE=DATE:20190828
DTEND;VALUE=DATE:20190831
DTSTAMP:20260423T233948
CREATED:20190131T154358Z
LAST-MODIFIED:20190131T154358Z
UID:611-1566950400-1567209599@www.euro-online.org
SUMMARY:XIth Conference of the European Sport Economics Association (ESEA) 
DESCRIPTION:Researchers are invited to submit a paper for the 11th annual meeting of the European Sport Economics Association. Submissions are welcome relating to any area of sports economics\,\nand including theoretical\, empirical and conceptual papers. Completed research and research in progress are equally admissible but manuscripts already accepted for publication should not\nbe submitted. The conference language is English. \nPlease submit an extended abstract: 3 pages (12‐point font) including detailed information on the theoretical background of the study\, the methods used and the major findings. \nAbstracts which pass the double‐blind review process will be accepted for presentation at the conference. Should the number of papers passing the review process be larger than the number of available slots for presentations\, only one abstract per submitting author will be accepted (regardless of whether co‐authors have submitted other papers). The submitting author is expected to present the paper. \nPlease submit your abstract(s) to the following addresses: placido@uniovi.es or foedplacido@gmail.com
URL:https://www.euro-online.org/websites/orinsports/event/xith-conference-of-the-european-sport-economics-association-esea/
LOCATION:Gijon\, Spain
CATEGORIES:Conferences
ATTACH;FMTTYPE=image/jpeg:https://www.euro-online.org/websites/orinsports/wp-content/uploads/sites/10/2019/01/06495_gijon_OK.jpg
END:VEVENT
END:VCALENDAR