BEGIN:VCALENDAR
VERSION:2.0
PRODID:-//OR in Sports - ECPv6.15.13.1//NONSGML v1.0//EN
CALSCALE:GREGORIAN
METHOD:PUBLISH
X-ORIGINAL-URL:https://www.euro-online.org/websites/orinsports
X-WR-CALDESC:Events for OR in Sports
REFRESH-INTERVAL;VALUE=DURATION:PT1H
X-Robots-Tag:noindex
X-PUBLISHED-TTL:PT1H
BEGIN:VTIMEZONE
TZID:UTC
BEGIN:STANDARD
TZOFFSETFROM:+0000
TZOFFSETTO:+0000
TZNAME:UTC
DTSTART:20180101T000000
END:STANDARD
END:VTIMEZONE
BEGIN:VEVENT
DTSTART;VALUE=DATE:20190529
DTEND;VALUE=DATE:20190601
DTSTAMP:20260424T042222
CREATED:20190305T095703Z
LAST-MODIFIED:20190305T095916Z
UID:624-1559088000-1559347199@www.euro-online.org
SUMMARY:3rd International Conference on Football Economics
DESCRIPTION:Khazar University (Baku\, Azerbaijan)\, New Economic School (Moscow\, Russia) and Higher School of Economics (Russia) cordially invite you to submit your abstracts for presentation at the 3rd International Conference on Football Economics that will take place in Baku (Azerbaijan) on May 29-31\, 2019 at the days of the UEFA Europa League final. The conference is aimed to highlight high-quality research of the football industry as well as to facilitate the cooperation between academics and practitioners. \nThe deadline for submitting an extended abstract (approximately 3 pages long) is March 15\, 2019. Notification of acceptance will be sent by March 31\, 2019. Extended abstract submission is through EasyChair. Please\, click the link or type the following address in your browser: https://easychair.org/conferences/?conf=footec2019 \nThe plenary talks will be delivered by Dennis Coates (University of Maryland\, Baltimore County; HSE) and Ruud Koning (University of Groningen). \nAfter the conference\, a volume in a book series on Sports Economics is planned to be published by Springer (Ed. Dennis Coates). The volume will include full versions of papers presented at the conference. The submissions would be refereed much the same way as journal submissions are refereed\, with no guarantee of acceptance into the volume. The deadline for submission of full version is June 15\, 2019. \nSocial part of the conference will include the UEFA Europa League final.
URL:https://www.euro-online.org/websites/orinsports/event/3rd-international-conference-on-football-economics/
LOCATION:Baku\, Azerbaijan
CATEGORIES:Conferences
ATTACH;FMTTYPE=image/jpeg:https://www.euro-online.org/websites/orinsports/wp-content/uploads/sites/10/2019/03/shutterstock_589906391.jpg
END:VEVENT
END:VCALENDAR