BEGIN:VCALENDAR
VERSION:2.0
PRODID:-//OR in Sports - ECPv6.15.13.1//NONSGML v1.0//EN
CALSCALE:GREGORIAN
METHOD:PUBLISH
X-ORIGINAL-URL:https://www.euro-online.org/websites/orinsports
X-WR-CALDESC:Events for OR in Sports
REFRESH-INTERVAL;VALUE=DURATION:PT1H
X-Robots-Tag:noindex
X-PUBLISHED-TTL:PT1H
BEGIN:VTIMEZONE
TZID:UTC
BEGIN:STANDARD
TZOFFSETFROM:+0000
TZOFFSETTO:+0000
TZNAME:UTC
DTSTART:20180101T000000
END:STANDARD
END:VTIMEZONE
BEGIN:VEVENT
DTSTART;VALUE=DATE:20190513
DTEND;VALUE=DATE:20190517
DTSTAMP:20260424T055329
CREATED:20190131T153756Z
LAST-MODIFIED:20190131T153756Z
UID:608-1557705600-1558051199@www.euro-online.org
SUMMARY:19th Annual International Conference on Sports: Economic\, Management\, Marketing & Social Aspects
DESCRIPTION:The Sport\, Exercise\, & Kinesiology Unit of ATINER organizes its 19th Annual International Conference on Sports: Economic\, Management\, Marketing & Social Aspects\, 13-16 May 2019\, Athens\, Greece sponsored by the Athens Journal of Sports. \nThe aim of the conference is to bring together academics and researchers of all areas of sports. Participants can present on sports topics within broad streams of research areas. Areas of interest include (but are not confined to): the Impacts of Olympic Games\, Professional Sports\, Sport-Scheduling\, Sports Tourism\, Sports Law\, Sports Communication\, Sports & Media\, Sports & Society\, Sport Psychology\, Sports Violence\, Sports & Education\, Sports & Ethics\, Sport Technology\, Sports and Computer Applications\, Sports & Information Technology\, Sport Services and Sports History. Also\, special sessions will be organized for individual sports (soccer\, football\, baseball\, basketball\, handball\, ice hockey\, tennis\, car racing\, gymnastics etc). \nFee structure information is available on https://www.atiner.gr/2019fees.
URL:https://www.euro-online.org/websites/orinsports/event/19th-annual-international-conference-on-sports-economic-management-marketing-social-aspects/
LOCATION:Athens\, Greece
CATEGORIES:Conferences
ATTACH;FMTTYPE=image/jpeg:https://www.euro-online.org/websites/orinsports/wp-content/uploads/sites/10/2016/12/Athens_Blog.jpg
END:VEVENT
END:VCALENDAR