BEGIN:VCALENDAR
VERSION:2.0
PRODID:-//OR in Sports - ECPv6.15.13.1//NONSGML v1.0//EN
CALSCALE:GREGORIAN
METHOD:PUBLISH
X-WR-CALNAME:OR in Sports
X-ORIGINAL-URL:https://www.euro-online.org/websites/orinsports
X-WR-CALDESC:Events for OR in Sports
REFRESH-INTERVAL;VALUE=DURATION:PT1H
X-Robots-Tag:noindex
X-PUBLISHED-TTL:PT1H
BEGIN:VTIMEZONE
TZID:UTC
BEGIN:STANDARD
TZOFFSETFROM:+0000
TZOFFSETTO:+0000
TZNAME:UTC
DTSTART:20170101T000000
END:STANDARD
END:VTIMEZONE
BEGIN:VEVENT
DTSTART;VALUE=DATE:20180919
DTEND;VALUE=DATE:20180924
DTSTAMP:20260424T191311
CREATED:20180416T163742Z
LAST-MODIFIED:20180416T163842Z
UID:378-1537315200-1537747199@www.euro-online.org
SUMMARY:XII World Congress of Performance Analysis of Sport
DESCRIPTION:On behalf of the host\, the Faculty of Kinesiology\, University of Zagreb\, Croatia\, and the Congress Organizing Committee\, we announce with great pleasure the upcoming XII World Congress of Performance Analysis of Sport to be held in Opatija\, Croatia\, on 19-23 September\, 2018. Workshops\, exhibitions and joint meetings are planned in addition to the conference programme. The social program and less formal events will not be forgotten either. Looking forward to welcoming you at the Congress! \nDeadline for abstract/paper submission: June 15\, 2018 \nAbstract/paper acceptance/revision notification: July 15\, 2018 \nAbstracts/papers are invited in the stated congress themes and/or any discipline involving the analysis of any aspect of sport & exercise performance. \nEach submission must be original work that has not been previously presented or published. \nCongress themes: \n\nSports performance\nAnalysis of referees\nCoaching process\nCoach behaviour\nBiomechanics\nAnalysis of technique\nTechnical effectiveness\nTactical evaluation\nPatterns of play\nNeuromotor control\nMovement in sport\nMotor learning and feedback\nWork rate\, physical demands\nPerformance analysis technology\nAnalysis of elite athletes and teams\nEffectiveness of performance analysis support\nPerformance analysis in health and senior sport\nPerformance analysis in youth sport\nObservational analysis of injury risk\nTechnology and performance analysis systems\nGymnastics & Dance
URL:https://www.euro-online.org/websites/orinsports/event/xii-world-congress-of-performance-analysis-of-sport/
LOCATION:Hotel Ambasador\, Opatija\, Croatia (Local Name: Hrvatska)
CATEGORIES:Workshop
END:VEVENT
END:VCALENDAR