BEGIN:VCALENDAR
VERSION:2.0
PRODID:-//OR in Sports - ECPv6.15.13.1//NONSGML v1.0//EN
CALSCALE:GREGORIAN
METHOD:PUBLISH
X-ORIGINAL-URL:https://www.euro-online.org/websites/orinsports
X-WR-CALDESC:Events for OR in Sports
REFRESH-INTERVAL;VALUE=DURATION:PT1H
X-Robots-Tag:noindex
X-PUBLISHED-TTL:PT1H
BEGIN:VTIMEZONE
TZID:UTC
BEGIN:STANDARD
TZOFFSETFROM:+0000
TZOFFSETTO:+0000
TZNAME:UTC
DTSTART:20170101T000000
END:STANDARD
END:VTIMEZONE
BEGIN:VEVENT
DTSTART;VALUE=DATE:20180708
DTEND;VALUE=DATE:20180712
DTSTAMP:20260424T224001
CREATED:20180416T161912Z
LAST-MODIFIED:20180416T161912Z
UID:368-1531008000-1531353599@www.euro-online.org
SUMMARY:EURO - OR in Sports stream
DESCRIPTION:Our EURO working group “OR in Sports” is organizing a stream on OR in Sports\, as part of the EURO Conference\, 8-11 July in Valencia\, Spain. \nWe are aiming for a sports track covering various applications and methodologies (e.g. optimization\, statistics\, analytics\, …)\, much like the sessions we had at the previous EURO conferences in Poznan and Glasgow. \nThe deadline of the conference has been extended to 19 March\, so until that day you can still submit an abstract. You can do this by going to the abstract submission page https://www.euro-online.org/conf/euro29/ and use the following invitation code: d5d9de06.
URL:https://www.euro-online.org/websites/orinsports/event/euro-or-in-sports-stream/
LOCATION:Valencia\, Valencia\, Spain
CATEGORIES:Conferences
END:VEVENT
END:VCALENDAR