BEGIN:VCALENDAR
VERSION:2.0
PRODID:-//OR in Sports - ECPv6.15.13.1//NONSGML v1.0//EN
CALSCALE:GREGORIAN
METHOD:PUBLISH
X-ORIGINAL-URL:https://www.euro-online.org/websites/orinsports
X-WR-CALDESC:Events for OR in Sports
REFRESH-INTERVAL;VALUE=DURATION:PT1H
X-Robots-Tag:noindex
X-PUBLISHED-TTL:PT1H
BEGIN:VTIMEZONE
TZID:Europe/Moscow
BEGIN:STANDARD
TZOFFSETFROM:+0300
TZOFFSETTO:+0300
TZNAME:MSK
DTSTART:20170101T000000
END:STANDARD
END:VTIMEZONE
BEGIN:VTIMEZONE
TZID:Europe/Helsinki
BEGIN:DAYLIGHT
TZOFFSETFROM:+0200
TZOFFSETTO:+0300
TZNAME:EEST
DTSTART:20170326T010000
END:DAYLIGHT
BEGIN:STANDARD
TZOFFSETFROM:+0300
TZOFFSETTO:+0200
TZNAME:EET
DTSTART:20171029T010000
END:STANDARD
BEGIN:DAYLIGHT
TZOFFSETFROM:+0200
TZOFFSETTO:+0300
TZNAME:EEST
DTSTART:20180325T010000
END:DAYLIGHT
BEGIN:STANDARD
TZOFFSETFROM:+0300
TZOFFSETTO:+0200
TZNAME:EET
DTSTART:20181028T010000
END:STANDARD
BEGIN:DAYLIGHT
TZOFFSETFROM:+0200
TZOFFSETTO:+0300
TZNAME:EEST
DTSTART:20190331T010000
END:DAYLIGHT
BEGIN:STANDARD
TZOFFSETFROM:+0300
TZOFFSETTO:+0200
TZNAME:EET
DTSTART:20191027T010000
END:STANDARD
END:VTIMEZONE
BEGIN:VEVENT
DTSTART;TZID=Europe/Moscow:20180410T120000
DTEND;TZID=Europe/Moscow:20180413T163000
DTSTAMP:20260425T035531
CREATED:20180416T142824Z
LAST-MODIFIED:20180419T151629Z
UID:335-1523361600-1523637000@www.euro-online.org
SUMMARY:XIX APRIL INTERNATIONAL ACADEMIC CONFERENCE ON ECONOMIC AND SOCIAL DEVELOPMENT
DESCRIPTION:The April Conference of the Higher School of Economics (HSE) is the main forum in Russia in social sciences\, first of all\, in Economics. Last years\, about 1500 colleagues participated in these conferences including honorary speakers – Nobel laureates Kenneth Arrow\, Eric Maskin and Muhammad Yunus. \nHSE invites researchers to submit papers for presentation at the `Sports studies’ section of the conference. Section comprises theoretical and empirical research papers that deal with economic\, social\, and managerial problems of sports industry. The articles on the following possible topics are very welcome: success factors in sport\, leagues regulation\, tournament design\, contest theory\, tournament and match strategies development\, corruption\, betting\, spectator interest studies\, financial and social issues of sporting mega-events\, scheduling\, competitive balance\, eSports and other. \nThe deadline for submitting an extended abstract is November 13\, 2017. Submission is through on-line registration at http://conf.hse.ru/ \nA detailed summary of the proposed presentation should be attached to the application\, in Word or RTF file\, in 1-3 pages with 1.5 line spacing (up to 7000 symbols). The abstract should clearly state the problem of the paper\, the approach to its solution (in particular\, if there is a model based on the analysis)\, and the main findings. It should indicate the main novelty of the results in comparison with the known\, previously published works. Abstracts which are less than 1 page in length will not be accepted. \nWorking languages of the Conference are Russian and English. Simultaneous translation will be available during all plenary and some session meetings. \nIf you have any questions\, please contact Olga Grigorenko (ogrigorenko@hse.ru; conference programme\, online registration etc.) or Dmitry Dagaev (ddagaev@hse.ru; questions related to `Sports studies’ section).
URL:https://www.euro-online.org/websites/orinsports/event/xix-april-international-academic-conference-on-economic-and-social-development/
LOCATION:National Research University Higher School of Economics\, Moscow\, Russian Federation
CATEGORIES:Conferences
END:VEVENT
BEGIN:VEVENT
DTSTART;TZID=Europe/Helsinki:20180412T100000
DTEND;TZID=Europe/Helsinki:20180412T163000
DTSTAMP:20260425T035531
CREATED:20180416T150202Z
LAST-MODIFIED:20180419T151606Z
UID:338-1523527200-1523550600@www.euro-online.org
SUMMARY:Workshop on Fairness in Sports
DESCRIPTION:The “Fairness in Sports” workshop aims to bring together researchers and practitioners with an interest in sports research\, and fairness issues in particular. \nFairness in sport is not just about assigning the top prizes to the worthiest competitors. It is also about the way the competition itself is organized. How to design rules that do not favor certain competitors? How to design a schedule of play that a priori offers similar chances to each participant? How to reconcile various (often conflicting) requests expressed by the stakeholders? It seems that as financial interests in sports increase\, fairness is increasingly under pressure\, and research on fairness issues in sports is becoming more and more relevant. \nThe workshop focusses on scientific methods to achieve greater fairness in sports\, both from a theoretical and a practical point of view. Topics will include i.a. tournament scheduling and rule design. \nThe workshop will be a 1-day event\, which will take place on April 12th 2018\, and is hosted at Ghent University in Belgium. \nKeynote speakers: \nProf. Jörn Schönberger (Technical University of Dresden) \nProf. Mario Guajardo (NNH Norwegian School of Economics). \nProf. Mehmet Ismail (King’s College London). \nThe workshop will not have an open call for papers\, but if you have interesting work to present related to fairness in sports\, you are more than welcome to contact Dries.Goossens@UGent.be.
URL:https://www.euro-online.org/websites/orinsports/event/workshop-on-fairness-in-sports/
LOCATION:Ghent University\, Tweekerkenstraat 2\, Ghent\, Belgium
CATEGORIES:Workshop
END:VEVENT
END:VCALENDAR