BEGIN:VCALENDAR
VERSION:2.0
PRODID:-//OR in Sports - ECPv6.15.13.1//NONSGML v1.0//EN
CALSCALE:GREGORIAN
METHOD:PUBLISH
X-ORIGINAL-URL:https://www.euro-online.org/websites/orinsports
X-WR-CALDESC:Events for OR in Sports
REFRESH-INTERVAL;VALUE=DURATION:PT1H
X-Robots-Tag:noindex
X-PUBLISHED-TTL:PT1H
BEGIN:VTIMEZONE
TZID:UTC
BEGIN:STANDARD
TZOFFSETFROM:+0000
TZOFFSETTO:+0000
TZNAME:UTC
DTSTART:20160101T000000
END:STANDARD
END:VTIMEZONE
BEGIN:VEVENT
DTSTART;VALUE=DATE:20171107
DTEND;VALUE=DATE:20171109
DTSTAMP:20260425T131349
CREATED:20180416T151811Z
LAST-MODIFIED:20180419T151618Z
UID:344-1510012800-1510185599@www.euro-online.org
SUMMARY:2nd AUEB Sports Analytics Workshop
DESCRIPTION:We have the pleasure to invite you to attend the 2nd AUEB Sports Analytics Workshop\, organized by the sports analytics team (incl. Dimitris Karlis and Ioannis Ntzoufras) of the Athens University of Economics and Business. \nKeynote speakers: \nJames Reade (University of Reading\, UK) \nAlun Owen (University of Coventry\, UK) \nFrits Spieksma (KU Leuven; Belgium) \nDries Goossens (Ghent University\, Belgium) \nIoannis Kosmidis (University College London\, UK) \nStefan Kesenne (Antwerp University & KU Leuven\, Belgium) \nTopics include: \nAn overview of Sport Analytics \nRecent developments in Sports Economics \nOptimal Tournament design & scheduling \nModeling and simulation \nMatch outcome models \nAnalysis of Play – Competitive Strategy \nPerformance and Data Analysis in Team Sports \nOptimization of Sport Performance
URL:https://www.euro-online.org/websites/orinsports/event/2nd-aueb-sports-analytics-workshop/
LOCATION:Athens\, Greece
CATEGORIES:Workshop
END:VEVENT
END:VCALENDAR