BEGIN:VCALENDAR
VERSION:2.0
PRODID:-//OR in Sports - ECPv6.15.13.1//NONSGML v1.0//EN
CALSCALE:GREGORIAN
METHOD:PUBLISH
X-ORIGINAL-URL:https://www.euro-online.org/websites/orinsports
X-WR-CALDESC:Events for OR in Sports
REFRESH-INTERVAL;VALUE=DURATION:PT1H
X-Robots-Tag:noindex
X-PUBLISHED-TTL:PT1H
BEGIN:VTIMEZONE
TZID:UTC
BEGIN:STANDARD
TZOFFSETFROM:+0000
TZOFFSETTO:+0000
TZNAME:UTC
DTSTART:20160101T000000
END:STANDARD
END:VTIMEZONE
BEGIN:VEVENT
DTSTART;VALUE=DATE:20170717
DTEND;VALUE=DATE:20170722
DTSTAMP:20260425T202626
CREATED:20180416T173529Z
LAST-MODIFIED:20180416T173858Z
UID:390-1500249600-1500681599@www.euro-online.org
SUMMARY:21st Conference of the International Federation of Operational Research Societies (IFORS)
DESCRIPTION:The 21th triennial conference of the International Federation of Operational Research Societies will bring together operational researchers from around the globe to discuss the full spectrum of topics in OR.  The Convention Centre that will host IFORS 2017 is conveniently located in the heart of Québec City\, at walking distance from its UNESCO Word Heritage historic center.  Outstanding plenary speakers and keynote speakers\, who will deliver tutorials on a variety of topics\, will make the conference a memorable scientific event. A number of sessions in the area of OR in sports/sports analytics will be organized; more information will follow soon.
URL:https://www.euro-online.org/websites/orinsports/event/21st-conference-of-the-international-federation-of-operational-research-societies-ifors/
LOCATION:Québec City Convention Centre\,  Québec \, Canada
CATEGORIES:Conferences
END:VEVENT
END:VCALENDAR