BEGIN:VCALENDAR
VERSION:2.0
PRODID:-//OR in Sports - ECPv6.15.13.1//NONSGML v1.0//EN
CALSCALE:GREGORIAN
METHOD:PUBLISH
X-WR-CALNAME:OR in Sports
X-ORIGINAL-URL:https://www.euro-online.org/websites/orinsports
X-WR-CALDESC:Events for OR in Sports
REFRESH-INTERVAL;VALUE=DURATION:PT1H
X-Robots-Tag:noindex
X-PUBLISHED-TTL:PT1H
BEGIN:VTIMEZONE
TZID:UTC
BEGIN:STANDARD
TZOFFSETFROM:+0000
TZOFFSETTO:+0000
TZNAME:UTC
DTSTART:20160101T000000
END:STANDARD
END:VTIMEZONE
BEGIN:VEVENT
DTSTART;VALUE=DATE:20170705
DTEND;VALUE=DATE:20170709
DTSTAMP:20260425T202147
CREATED:20180416T173742Z
LAST-MODIFIED:20180416T173742Z
UID:393-1499212800-1499558399@www.euro-online.org
SUMMARY:22nd Annual Congress of the European College of Sport Science (ECSS)
DESCRIPTION:The ECSS welcomes contributions from all areas of sport science and sport medicine including: \nPHYSIOLOGY & SPORTS MEDICINE\nSOCIAL SCIENCES & HUMANITIES\nBIOMECHANICS & NEUROMUSCULAR \nAuthors are free to choose between oral presentation\, mini-oral presentation or e-poster as format while submitting in one of the following topics: \nAdapted Physical Activity\nBiochemistry\nBiomechanics\nCoaching\nHealth and Fitness\nHistory\nMolecular Biology\nMotor Learning\nNeuromuscular Physiology\nNutrition\nPhilosophy and Ethics\nPhysical Education and Pedagogics\nPhysiology\nPsychology\nRehabilitation and Physiotherapy\nSociology\nSport Management and law\nSport Statistics and Analyses\nSport Technology\nSports Medicine and Orthopedics\nTraining and Testing\nAbstract submission is free of charge. After undergoing the reviewing process\, all authors will be informed about the acceptance of their submission on the 1st April 2017. Registration fee must be paid by the 1st May 2017 at the latest to secure the presentation during the congress and the publication in the Book of Abstracts.
URL:https://www.euro-online.org/websites/orinsports/event/22nd-annual-congress-of-the-european-college-of-sport-science-ecss/
LOCATION:Messe Essen\, Germany
CATEGORIES:Conferences
END:VEVENT
END:VCALENDAR