BEGIN:VCALENDAR
VERSION:2.0
PRODID:-//OR in Sports - ECPv6.15.13.1//NONSGML v1.0//EN
CALSCALE:GREGORIAN
METHOD:PUBLISH
X-ORIGINAL-URL:https://www.euro-online.org/websites/orinsports
X-WR-CALDESC:Events for OR in Sports
REFRESH-INTERVAL;VALUE=DURATION:PT1H
X-Robots-Tag:noindex
X-PUBLISHED-TTL:PT1H
BEGIN:VTIMEZONE
TZID:UTC
BEGIN:STANDARD
TZOFFSETFROM:+0000
TZOFFSETTO:+0000
TZNAME:UTC
DTSTART:20160101T000000
END:STANDARD
END:VTIMEZONE
BEGIN:VEVENT
DTSTART;VALUE=DATE:20170511
DTEND;VALUE=DATE:20170513
DTSTAMP:20260425T233435
CREATED:20180416T174651Z
LAST-MODIFIED:20180416T174651Z
UID:401-1494460800-1494633599@www.euro-online.org
SUMMARY:2nd International Conference on Sport Economics & Sport Management (SESM)
DESCRIPTION:Call for Papers: The conference will provide a platform for exchanging innovative thoughts and creating cooperation between researchers in the fields of sport\nmanagement and economics. We are inviting proposals for paper presentations as well as complete sessions consisting out of three papers/presenters. This\nconference provides researchers with an opportunity to present theoretical\, empirical\, and policy‐oriented research. \nProgram Committee: Wladimir Andreff (Paris) ∙ Eike Emrich (Saarbrücken) ∙ Christian Pierdzioch (Hamburg) ∙ Stefan Szymanski (Michigan) ∙ Christian Dreger\n(Berlin) ∙ Georg Stadtmann (Frankfurt/Oder) ∙ Tim Pawlowski (Tübingen) ∙ Alexander Ferrauti (Bochum) ∙ Oliver Budzinski (Ilmenau) ∙ Bernd Frick (Paderborn) ∙ Gerd G. Wagner (Berlin) \nDeadline for paper submission: 31st Dec\, 2016.
URL:https://www.euro-online.org/websites/orinsports/event/2nd-international-conference-on-sport-economics-sport-management-sesm/
LOCATION:Berlin\, Germany
CATEGORIES:Conferences
END:VEVENT
END:VCALENDAR