BEGIN:VCALENDAR
VERSION:2.0
PRODID:-//EURO Practitioners&#039; Forum - ECPv6.15.13.1//NONSGML v1.0//EN
CALSCALE:GREGORIAN
METHOD:PUBLISH
X-ORIGINAL-URL:https://www.euro-online.org/websites/or-in-practice
X-WR-CALDESC:Events for EURO Practitioners&#039; Forum
REFRESH-INTERVAL;VALUE=DURATION:PT1H
X-Robots-Tag:noindex
X-PUBLISHED-TTL:PT1H
BEGIN:VTIMEZONE
TZID:UTC
BEGIN:STANDARD
TZOFFSETFROM:+0000
TZOFFSETTO:+0000
TZNAME:UTC
DTSTART:20230101T000000
END:STANDARD
END:VTIMEZONE
BEGIN:VEVENT
DTSTART;TZID=UTC:20241014T143000
DTEND;TZID=UTC:20241015T173000
DTSTAMP:20260421T193452
CREATED:20240301T223737Z
LAST-MODIFIED:20241007T104225Z
UID:1515-1728916200-1729013400@www.euro-online.org
SUMMARY:EURO Practitioners’ Forum 5th Annual Conference: OR in Collaboration
DESCRIPTION:Monday 14 October – Tuesday 15 October\, 2024\, University of Coimbra \nREGISTRATION (FREE) and TRAVEL INFORMATION \nConference programme \nThe theme of this year’s conference is the Collaboration of Operations Research practitioners with practitioners from other fields\, like Machine Learning\, Econometrics\, Simulation\, etc. We will talk about inspiring examples of synergies arising across fields\, where multiple disciplines amplify each other in the ultimate quest to deliver impact on business\, society\, economics\, and human lives in general. Speakers are also invited to share their experiences of difficulties they have encountered with such multi-disciplinary collaboration and any insights or strategies on how to address these. \nPlease visit the conference page for program details. \nSubmission guidelines \nWe invite submissions which showcase successful collaboration examples of Operations Research with other fields and look forward to insightful discussions and networking opportunities with practitioners from various fields. \nSubmission is closed and authors have been notified. The conference program will be made available shortly on this page. \nImportant Dates \n\nSubmission deadline: 12 July\, 2024\nNotification of acceptance: 30 July\, 2024\nAuthor registration: 5 September\, 2024\nEarly registration (latest date for registration with conference dinner): 12 September\, 2024\nRegistration deadline: 30 September\, 2024\nEvent: 14-15 October\, 2024\n\nSponsors: \nMany thanks to the sponsors of this event: \n \n  \n  \nKeynote speakers: \nDr. Bernardino Romera-Paredes  \nFunSearch: Discovering new mathematics and algorithms using Large Language Models \nProf. Dr. Thorsten Koch \n25 years of Optimization: how to Survive Industry Projects as a Mathematician \nProf. Dr. Joaquim Gromicho \nFrom collaboration to Education and back: a continuously revolving cycle \nDr. Joana Matos Dias \nRadiotherapy Treatment Planning: The Role of Operations Research and Multidisciplinary Collaboration \nAna Sofia Pereira \nBridging the gap between theory and practice \nMichael Lindahl \nLarge Language models: A new tool in the OR toolbox? \n  \nOrganisation committee: \nVladimir Fux (Zalando)\, Carlos Henggeler Antunes (Univ. Coimbra)\, Maria João Alves (Univ. Coimbra)\, Ricardo Saldanha (SISCOG)\, Susanne Heipcke (FICO)\, Andy Harrison (QinetiQ) \nVenue information \nThe conference will take place in the Student Hub\, University of Coimbra\, Portugal. The Student Hub is located on the ground floor of the Faculty of Medicine building\, Rua Larga\, right in the heart of the historical town. \nSee this document for detailed travel instructions and maps. \n  \nHosted by \n  \n \n  \n 
URL:https://www.euro-online.org/websites/or-in-practice/event/euro-practitioners-forum-5th-annual-conference-or-in-collaboration/
LOCATION:University of Coimbra\, 2 Rua Larga 3000-370\, Coimbra\, Portugal
END:VEVENT
END:VCALENDAR