BEGIN:VCALENDAR
VERSION:2.0
PRODID:-//EURO Working Group on Decision Support Systems - ECPv6.15.13.1//NONSGML v1.0//EN
CALSCALE:GREGORIAN
METHOD:PUBLISH
X-ORIGINAL-URL:https://www.euro-online.org/websites/dss
X-WR-CALDESC:Events for EURO Working Group on Decision Support Systems
REFRESH-INTERVAL;VALUE=DURATION:PT1H
X-Robots-Tag:noindex
X-PUBLISHED-TTL:PT1H
BEGIN:VTIMEZONE
TZID:UTC
BEGIN:STANDARD
TZOFFSETFROM:+0000
TZOFFSETTO:+0000
TZNAME:UTC
DTSTART:20240101T000000
END:STANDARD
END:VTIMEZONE
BEGIN:VEVENT
DTSTART;TZID=UTC:20250526T080000
DTEND;TZID=UTC:20250529T170000
DTSTAMP:20260424T085204
CREATED:20250214T072603Z
LAST-MODIFIED:20250214T072603Z
UID:580-1748246400-1748538000@www.euro-online.org
SUMMARY:ICDSST 2025 (Belgrade\, Serbia)
DESCRIPTION:11th International Conference on Decision Support System Technology\nThe ICDSST 2025 conference provides a comprehensive forum for the dissemination of pioneering research and advanced practices in decision support systems. From AI-driven decision models to real-world applications in various sectors\, ICDSST 2025 highlights how technological advancements are transforming decision-making processes. We welcome researchers\, practitioners\, and policymakers to present their work and engage in fruitful discussions. \n  \nDates: 26th – 29th May 2025 \nVenue: Faculty of Organizational Sciences\, Belgrade\, Serbia \nWebsite: http://icdsst2025.ewg-dss.com/
URL:https://www.euro-online.org/websites/dss/event/icdsst-2025-belgrade-serbia/
LOCATION:University of Belgrade – Faculty of Organizational Sciences\, Jove Ilica 154\, Belgrade\, 11000\, Serbia
ORGANIZER;CN="EWG-DSS":MAILTO:ewg-dss@fccdp.com
END:VEVENT
END:VCALENDAR