BEGIN:VCALENDAR
VERSION:2.0
PRODID:-//EURO Working Group on Decision Support Systems - ECPv6.15.13.1//NONSGML v1.0//EN
CALSCALE:GREGORIAN
METHOD:PUBLISH
X-WR-CALNAME:EURO Working Group on Decision Support Systems
X-ORIGINAL-URL:https://www.euro-online.org/websites/dss
X-WR-CALDESC:Events for EURO Working Group on Decision Support Systems
REFRESH-INTERVAL;VALUE=DURATION:PT1H
X-Robots-Tag:noindex
X-PUBLISHED-TTL:PT1H
BEGIN:VTIMEZONE
TZID:UTC
BEGIN:STANDARD
TZOFFSETFROM:+0000
TZOFFSETTO:+0000
TZNAME:UTC
DTSTART:20230101T000000
END:STANDARD
END:VTIMEZONE
BEGIN:VEVENT
DTSTART;TZID=UTC:20240603T080000
DTEND;TZID=UTC:20240605T170000
DTSTAMP:20260425T040842
CREATED:20230912T182804Z
LAST-MODIFIED:20230927T140031Z
UID:569-1717401600-1717606800@www.euro-online.org
SUMMARY:ICDSST 2024 (Porto\, Portugal)
DESCRIPTION:Joint Conference GDN & ICDSST 2024 – Call for Papers & Participation\n  \nLink \n24th International Conference on Group Decision and Negotiation & 10th International Conference on Decision Support System Technology \n3 – 5 June 2024\, Porto\, Portugal \nMain Theme: Human-Centric Group Decision\, Negotiation and Decision Support Systems for Societal Transitions \nVenue\nFEUP – Faculty of Engineering of the University of Porto\, Porto\, Portugal \nCall for papers\nYou are invited to participate in the Joint Conference in Group Decision and Negotiation & Decision Support Systems Technology 2024 (GDN & ICDSST 2024).\nThe Joint Conference will gather the 24th International Conference on Group Decision and Negotiation\, organized by the GDN Section of INFORMS\, and the 10th International Conference on Decision Support Systems Technology\, organized by the Euro Working Group on Decision Support Systems (EWG-DSS)\, from the EURO Association. The conference will be held at the Faculty of Engineering of the University of Porto\, in Porto\, Portugal\, from 3 to 5 June 2024. The Joint Conference will have as its main topic: Human-Centric Group Decision\, Negotiation and Decision Support Systems for Societal Transitions.\nThe Organising Committee invites researchers\, educators\, developers\, specialists\, and other professionals in the related areas of decision-making and negotiation\, including its methodologies and technologies\, as well as application-oriented practitioners directed to the implementation of solutions for decision support challenges\, to submit their work to the Joint Conference in Group Decision and Negotiation & Decision Support Systems Technology 2024.
URL:https://www.euro-online.org/websites/dss/event/icdsst-2024-porto-portugal/
LOCATION:Porto\, Portugal\, Porto\, Portugal
ORGANIZER;CN="EWG-DSS":MAILTO:ewg-dss@fccdp.com
END:VEVENT
END:VCALENDAR