BEGIN:VCALENDAR
VERSION:2.0
PRODID:-//EURO Working Group on Decision Support Systems - ECPv6.15.13.1//NONSGML v1.0//EN
CALSCALE:GREGORIAN
METHOD:PUBLISH
X-ORIGINAL-URL:https://www.euro-online.org/websites/dss
X-WR-CALDESC:Events for EURO Working Group on Decision Support Systems
REFRESH-INTERVAL;VALUE=DURATION:PT1H
X-Robots-Tag:noindex
X-PUBLISHED-TTL:PT1H
BEGIN:VTIMEZONE
TZID:UTC
BEGIN:STANDARD
TZOFFSETFROM:+0000
TZOFFSETTO:+0000
TZNAME:UTC
DTSTART:19880101T000000
END:STANDARD
END:VTIMEZONE
BEGIN:VEVENT
DTSTART;VALUE=DATE:20130529
DTEND;VALUE=DATE:20130601
DTSTAMP:20260426T042100
CREATED:20180915T091030Z
LAST-MODIFIED:20180915T091236Z
UID:441-1369785600-1370044799@www.euro-online.org
SUMMARY:Thessaloniki (Greece) 2013
DESCRIPTION: EWG-DSS Thessaloniki-2013 Workshop on “Exploring New Directions for Decisions in the Internet Age” \nhttps://ewgdssthessaloniki2013.wordpress.com/ \n 
URL:https://www.euro-online.org/websites/dss/event/thessaloniki-greece-2013/
LOCATION:University of Macedonia\, Egnatias 156\, Thessaloniki\, Greece
CATEGORIES:Conferences
ATTACH;FMTTYPE=image/jpeg:https://www.euro-online.org/websites/dss/wp-content/uploads/sites/11/2018/09/header-workshop-thessaloniki-2013.jpg
ORGANIZER;CN="EWG-DSS":MAILTO:ewg-dss@fccdp.com
END:VEVENT
BEGIN:VEVENT
DTSTART;VALUE=DATE:20120412
DTEND;VALUE=DATE:20120414
DTSTAMP:20260426T042100
CREATED:20180915T085255Z
LAST-MODIFIED:20180915T091417Z
UID:435-1334188800-1334361599@www.euro-online.org
SUMMARY:Liverpool (UK) 2012
DESCRIPTION:EWG-DSS Liverpool-2012 Workshop on “Decision Support Systems & Operations Management Trends and Solutions in Industries” \nhttps://ewgdssliverpool2012.wordpress.com/
URL:https://www.euro-online.org/websites/dss/event/liverpool-2012/
LOCATION:University of Liverpool – Management School\, Chatham Building Chatham Street\, Liverpool\, L69 7ZH\, United Kingdom
CATEGORIES:Conferences
ATTACH;FMTTYPE=image/jpeg:https://www.euro-online.org/websites/dss/wp-content/uploads/sites/11/2018/09/cropped-logo4.jpg
ORGANIZER;CN="EWG-DSS":MAILTO:ewg-dss@fccdp.com
END:VEVENT
BEGIN:VEVENT
DTSTART;VALUE=DATE:20111130
DTEND;VALUE=DATE:20111201
DTSTAMP:20260426T042100
CREATED:20180914T212427Z
LAST-MODIFIED:20180915T091446Z
UID:432-1322611200-1322697599@www.euro-online.org
SUMMARY:Paris (France) 2011
DESCRIPTION:EWG-DSS / DASIG Paris-2011 Joint-Workshop. “EWG-DSS Stream on Collaborative Decision Making” \nhttps://ewgdssparis2011.wordpress.com/
URL:https://www.euro-online.org/websites/dss/event/paris-france-2011/
CATEGORIES:Conferences
ATTACH;FMTTYPE=image/jpeg:https://www.euro-online.org/websites/dss/wp-content/uploads/sites/11/2018/09/cropped-paris-banner-1.jpg
END:VEVENT
BEGIN:VEVENT
DTSTART;VALUE=DATE:20110623
DTEND;VALUE=DATE:20110625
DTSTAMP:20260426T042100
CREATED:20180914T211916Z
LAST-MODIFIED:20180915T091346Z
UID:427-1308787200-1308959999@www.euro-online.org
SUMMARY:London (UK) 2011
DESCRIPTION:EWG-DSS London-2011 Workshop on “Decision Systems” \nhttps://londonewgdss2011.wordpress.com/
URL:https://www.euro-online.org/websites/dss/event/ewg-dss-london-2011/
LOCATION:School of Business\, Economics and Informatics\, Birkbeck\, University of London\, Malet Street\, Bloomsbury\, London\,  WC1E 7HX\, United Kingdom
CATEGORIES:Conferences
ATTACH;FMTTYPE=image/jpeg:https://www.euro-online.org/websites/dss/wp-content/uploads/sites/11/2018/09/cropped-london-1.jpg
END:VEVENT
BEGIN:VEVENT
DTSTART;VALUE=DATE:19890501
DTEND;VALUE=DATE:19890601
DTSTAMP:20260426T042100
CREATED:20180914T211322Z
LAST-MODIFIED:20180915T092859Z
UID:424-609984000-612662399@www.euro-online.org
SUMMARY:EURO Summer Institute on DSS – Foundation of the EWG-DSS\, Madeira (Portugal)\, 1989
DESCRIPTION:
URL:https://www.euro-online.org/websites/dss/event/euro-summer-institute-on-dss-foundation-of-the-ewg-dss/
LOCATION:Madeira\, Madeira\, Portugal
CATEGORIES:Conferences
ATTACH;FMTTYPE=image/jpeg:https://www.euro-online.org/websites/dss/wp-content/uploads/sites/11/2018/09/madeira-group.jpg
ORGANIZER;CN="EWG-DSS":MAILTO:ewg-dss@fccdp.com
END:VEVENT
END:VCALENDAR