BEGIN:VCALENDAR
VERSION:2.0
PRODID:-//EURO Working Group on Decision Support Systems - ECPv6.15.13.1//NONSGML v1.0//EN
CALSCALE:GREGORIAN
METHOD:PUBLISH
X-ORIGINAL-URL:https://www.euro-online.org/websites/dss
X-WR-CALDESC:Events for EURO Working Group on Decision Support Systems
REFRESH-INTERVAL;VALUE=DURATION:PT1H
X-Robots-Tag:noindex
X-PUBLISHED-TTL:PT1H
BEGIN:VTIMEZONE
TZID:UTC
BEGIN:STANDARD
TZOFFSETFROM:+0000
TZOFFSETTO:+0000
TZNAME:UTC
DTSTART:20100101T000000
END:STANDARD
END:VTIMEZONE
BEGIN:VEVENT
DTSTART;VALUE=DATE:20110623
DTEND;VALUE=DATE:20110625
DTSTAMP:20260424T142330
CREATED:20180914T211916Z
LAST-MODIFIED:20180915T091346Z
UID:427-1308787200-1308959999@www.euro-online.org
SUMMARY:London (UK) 2011
DESCRIPTION:EWG-DSS London-2011 Workshop on “Decision Systems” \nhttps://londonewgdss2011.wordpress.com/
URL:https://www.euro-online.org/websites/dss/event/ewg-dss-london-2011/
LOCATION:School of Business\, Economics and Informatics\, Birkbeck\, University of London\, Malet Street\, Bloomsbury\, London\,  WC1E 7HX\, United Kingdom
CATEGORIES:Conferences
ATTACH;FMTTYPE=image/jpeg:https://www.euro-online.org/websites/dss/wp-content/uploads/sites/11/2018/09/cropped-london-1.jpg
END:VEVENT
END:VCALENDAR