BEGIN:VCALENDAR
VERSION:2.0
PRODID:-//EURO working group on continuous optimization - ECPv6.15.13.1//NONSGML v1.0//EN
CALSCALE:GREGORIAN
METHOD:PUBLISH
X-ORIGINAL-URL:https://www.euro-online.org/websites/continuous-optimization
X-WR-CALDESC:Events for EURO working group on continuous optimization
REFRESH-INTERVAL;VALUE=DURATION:PT1H
X-Robots-Tag:noindex
X-PUBLISHED-TTL:PT1H
BEGIN:VTIMEZONE
TZID:UTC
BEGIN:STANDARD
TZOFFSETFROM:+0000
TZOFFSETTO:+0000
TZNAME:UTC
DTSTART:20160101T000000
END:STANDARD
END:VTIMEZONE
BEGIN:VTIMEZONE
TZID:Europe/Helsinki
BEGIN:DAYLIGHT
TZOFFSETFROM:+0200
TZOFFSETTO:+0300
TZNAME:EEST
DTSTART:20160327T010000
END:DAYLIGHT
BEGIN:STANDARD
TZOFFSETFROM:+0300
TZOFFSETTO:+0200
TZNAME:EET
DTSTART:20161030T010000
END:STANDARD
BEGIN:DAYLIGHT
TZOFFSETFROM:+0200
TZOFFSETTO:+0300
TZNAME:EEST
DTSTART:20170326T010000
END:DAYLIGHT
BEGIN:STANDARD
TZOFFSETFROM:+0300
TZOFFSETTO:+0200
TZNAME:EET
DTSTART:20171029T010000
END:STANDARD
BEGIN:DAYLIGHT
TZOFFSETFROM:+0200
TZOFFSETTO:+0300
TZNAME:EEST
DTSTART:20180325T010000
END:DAYLIGHT
BEGIN:STANDARD
TZOFFSETFROM:+0300
TZOFFSETTO:+0200
TZNAME:EET
DTSTART:20181028T010000
END:STANDARD
BEGIN:DAYLIGHT
TZOFFSETFROM:+0200
TZOFFSETTO:+0300
TZNAME:EEST
DTSTART:20190331T010000
END:DAYLIGHT
BEGIN:STANDARD
TZOFFSETFROM:+0300
TZOFFSETTO:+0200
TZNAME:EET
DTSTART:20191027T010000
END:STANDARD
END:VTIMEZONE
BEGIN:VTIMEZONE
TZID:America/Halifax
BEGIN:DAYLIGHT
TZOFFSETFROM:-0400
TZOFFSETTO:-0300
TZNAME:ADT
DTSTART:20160313T060000
END:DAYLIGHT
BEGIN:STANDARD
TZOFFSETFROM:-0300
TZOFFSETTO:-0400
TZNAME:AST
DTSTART:20161106T050000
END:STANDARD
BEGIN:DAYLIGHT
TZOFFSETFROM:-0400
TZOFFSETTO:-0300
TZNAME:ADT
DTSTART:20170312T060000
END:DAYLIGHT
BEGIN:STANDARD
TZOFFSETFROM:-0300
TZOFFSETTO:-0400
TZNAME:AST
DTSTART:20171105T050000
END:STANDARD
BEGIN:DAYLIGHT
TZOFFSETFROM:-0400
TZOFFSETTO:-0300
TZNAME:ADT
DTSTART:20180311T060000
END:DAYLIGHT
BEGIN:STANDARD
TZOFFSETFROM:-0300
TZOFFSETTO:-0400
TZNAME:AST
DTSTART:20181104T050000
END:STANDARD
END:VTIMEZONE
BEGIN:VEVENT
DTSTART;VALUE=DATE:20190628
DTEND;VALUE=DATE:20190630
DTSTAMP:20260420T084612
CREATED:20190221T133255Z
LAST-MODIFIED:20190222T153231Z
UID:582-1561680000-1561852799@www.euro-online.org
SUMMARY:EUROPT Workshop 2019
DESCRIPTION:The EUROPT Workshop brings together researchers from Europe and around the globe for stimulating discussions on the latest developments in continuous optimization. \nPlenary speakers \n\nClaire Adijman\, Imperial College\, London\nDaniel Kuhn\, Ecole Polytechnique Fédérale de Lausanne\nMargaret Wright\, New York University\nEUROPT Fellow 2019\n\n  \nAuthors are invited to submit abstracts especially (but not only) on one or more of the following topics: \n\nLinear and nonlinear optimization\nLarge-scale optimization\nMulti- and many-objective optimization\nMixed integer nonlinear optimization\nOptimization under uncertainty and applications\nDerivative-free optimization\nSemi-infinite optimization\nGlobal optimization\nStochastic optimization\nComplementarity and variational problems\nOptimal control and applications\nConic and semidefinite optimization\nOptimization in industry\, business and finance\nComplexity and efficiency of optimization algorithms\nAnalysis and engineering of optimization algorithms\nConvex and non-smooth optimization\nData driven optimization\nNature inspired methods and algorithms\nMultilevel optimization\nOptimization for learning and data analysis\nHuge-scale optimization\nArtificial intelligence based optimization methods and applications\n\nAbstracts should be maximum 600 characters long\, including spaces\, and should not have any mathematical notation or latex code. \nPlease\, submit the abstracts using the EURO submission page. Note that all the authors have to have an EURO account. Submission deadline: March 4\, 2019. \nIf your contribution fits or has been agreed with the framework of one of the proposed sessions or minisymposia\, please contact the organiser(s) to have the invitation code\,and indicate the session by selecting the corresponding keyword starting with “SS – “.
URL:https://www.euro-online.org/websites/continuous-optimization/event/europt-workshop-2019/
LOCATION:Strathclyde Business School\, University of Strathclyde\, 199 Cathedral Street\, Glasgow\, Scotland\, United Kingdom
CATEGORIES:EUROPT Meetings
ATTACH;FMTTYPE=image/jpeg:https://www.euro-online.org/websites/continuous-optimization/wp-content/uploads/sites/7/2018/10/glasgow.jpg
END:VEVENT
BEGIN:VEVENT
DTSTART;VALUE=DATE:20180712
DTEND;VALUE=DATE:20180714
DTSTAMP:20260420T084612
CREATED:20180126T174440Z
LAST-MODIFIED:20180126T175039Z
UID:501-1531353600-1531526399@www.euro-online.org
SUMMARY:EUROPT Workshop 2018
DESCRIPTION:The scope of the EUROPT 2018 includes\, but is not restricted to\, the following areas (listed alphabetically): \n\nApplications of mathematical optimization to the real world\nConic and semidefinite optimization\nConvex optimization\nComplementarity and variational problems\nComplexity and efficiency of optimization algorithms\nDerivative-free optimization\nGlobal optimization\nHuge-scale optimization\nImplementation of optimization algorithms\nLinear and nonlinear continuous local optimization\nMixed integer nonlinear optimization\nMulti-objective optimization\nNon-smooth optimization\nOptimal control\nRobust optimization\nSemi-infinite programming\nSimulation-based optimization\nStochastic optimization
URL:https://www.euro-online.org/websites/continuous-optimization/event/europt-workshop-2018/
LOCATION:Universidad de Almería\, Almería\, Spain
CATEGORIES:EUROPT Meetings,Workshops and Conferences
ATTACH;FMTTYPE=image/jpeg:https://www.euro-online.org/websites/continuous-optimization/wp-content/uploads/sites/7/2018/01/websitespt2018.jpg
END:VEVENT
BEGIN:VEVENT
DTSTART;VALUE=DATE:20180507
DTEND;VALUE=DATE:20180510
DTSTAMP:20260420T084612
CREATED:20180126T165956Z
LAST-MODIFIED:20180126T175718Z
UID:490-1525651200-1525910399@www.euro-online.org
SUMMARY:Optimization days 2018
DESCRIPTION:  \nOptimization Days is an annual conference organized alternately by the Groupe d’Études et de Recherche en Analyse des Décisions (GERAD) and the Interuniversity Research Centre on Enterprise Networks\, Logistics and Transportation (CIRRELT). \nThe conference aims to survey theory\, numerical methods\, and applications of optimization. It provides researchers from around the world the opportunity to exchange and to collaborate. \nTopics of interest include\, but are not restricted to: \n\n\n\n\n\n\nConic and polynomial optimization\nConstraint programming\nData-driven mathematical optimization and machine learning\nDerivative-free optimization\nDynamic programming and optimal control\nGame theory\nGlobal optimization\nHeuristics and metaheuristics\nLinear and integer optimization\nMulticriteria decision aid\nNetworks and graphs\nNonlinear optimization\nSimulation\nSmart grids\nStatistical methods and data mining\nStochastic and robust optimization\nApplications in all areas\n\n\n\n\n\n\nPlenary speakers:\n– Miguel F. Anjos\, École Polytechnique de Montréal\, Canada;\n– Gianpaolo Ghiani\, Università del Salento\, Italy;\n– Martine Labbé\, Université Libre de Bruxelles\, Belgium;\n– Nenad Mladenović\, Serbian Academy of Science and Arts\, Serbia;\n– Stefan M. Wild\, Argonne National Laboratory\, USA;\n– Laurence A. Wolsey\, Université catholique de Louvain\, Belgium. \nTutorial speakers:\n– Charles Audet\, École Polytechnique de Montréal\, Canada;\n– Jacques Desrosiers\, HEC Montréal\, Canada;\n– Roussos Dimitrakopoulos\, Université McGill\, Canada;\n– Nadia Lahrichi\, École Polytechnique de Montréal\, Canada;\n– Denis Larocque\, HEC Montréal\, Canada.
URL:https://www.euro-online.org/websites/continuous-optimization/event/optimization-days-2018/
LOCATION:HEC\, Montréal\, Canada
CATEGORIES:Workshops and Conferences
ATTACH;FMTTYPE=image/jpeg:https://www.euro-online.org/websites/continuous-optimization/wp-content/uploads/sites/7/2018/01/logoJO2018-en_default.jpg
END:VEVENT
BEGIN:VEVENT
DTSTART;VALUE=DATE:20180125
DTEND;VALUE=DATE:20180128
DTSTAMP:20260420T084612
CREATED:20170331T071413Z
LAST-MODIFIED:20170916T094133Z
UID:217-1516838400-1517097599@www.euro-online.org
SUMMARY:Workshop on Graph Spectra\, Combinatorics and Optimization
DESCRIPTION:The aim of WGSCO2018 is to bring together academic specialists and promote broad exchange of information and new developments in Theory of Graph Spectra\, Combinatorics and Optimization\, and other related areas.\nDuring the Workshop it will be commemorated the 65th birthday of Domingos M. Cardoso\, who is a prominent Professor of the University of Aveiro. \nWorkshop webpage \n 
URL:https://www.euro-online.org/websites/continuous-optimization/event/wgsco2018/
LOCATION:University of Aveiro\, Aveiro\, Portugal
CATEGORIES:EUROPT Meetings,Workshops and Conferences
ATTACH;FMTTYPE=image/jpeg:https://www.euro-online.org/websites/continuous-optimization/wp-content/uploads/sites/7/2017/05/aveiro18.jpeg
END:VEVENT
BEGIN:VEVENT
DTSTART;VALUE=DATE:20171216
DTEND;VALUE=DATE:20171221
DTSTAMP:20260420T084612
CREATED:20170216T203252Z
LAST-MODIFIED:20170701T101642Z
UID:172-1513382400-1513814399@www.euro-online.org
SUMMARY:4th Conference on Optimization Methods and Software
DESCRIPTION:The conference is organized in relation to the 25th anniversary of the journal Optimization Methods and Software (OMS) observed in 2017. The main topics are the same as those covered by the journal publications. \nThe conference aims to review and discuss recent advances and promising research trends in optimization theory\, methods\, applications and software development. \nConference webpage \n 
URL:https://www.euro-online.org/websites/continuous-optimization/event/oms2017/
LOCATION:University of Havana\, Havana\, Cuba
CATEGORIES:Workshops and Conferences
ATTACH;FMTTYPE=image/jpeg:https://www.euro-online.org/websites/continuous-optimization/wp-content/uploads/sites/7/2017/07/oms2017.jpg
ORGANIZER;CN="OMS":MAILTO:oms2017cuba@gmail.com
END:VEVENT
BEGIN:VEVENT
DTSTART;VALUE=DATE:20170925
DTEND;VALUE=DATE:20170929
DTSTAMP:20260420T084612
CREATED:20170508T174523Z
LAST-MODIFIED:20170508T174632Z
UID:413-1506297600-1506643199@www.euro-online.org
SUMMARY:18th French-German-Italian Conference on Optimization
DESCRIPTION:This conference is the 18th of the series of French-German meetings which started in Oberwolfach\, Germany\, in 1980. Since 1998\, the conference has been organized under the participation of a third European country. This time it is jointly organized with Italy\, and takes place at the Paderborn University. The conference will consist of invited plenary talks\, minisymposia\, and contributed talks. \nThe conference will address all aspects of optimization and its applications\, including: \n\ncontinuous optimization (smooth and nonsmooth)\noptimal control and calculus of variations\noptimization with PDE\nnumerical methods for mathematical programming\nrobust optimization\nmixed integer optimization\ndifferential inclusions and set-valued analysis\nstochastic optimization\nmulticriteria optimization\noptimization techniques for industrial applications\n\n  \nConference website
URL:https://www.euro-online.org/websites/continuous-optimization/event/18th-french-german-italian-conference-on-optimization/
LOCATION:Universität Paderborn\, Paderborn\, Germany
CATEGORIES:Workshops and Conferences
ATTACH;FMTTYPE=image/jpeg:https://www.euro-online.org/websites/continuous-optimization/wp-content/uploads/sites/7/2017/05/fgi17.jpg
END:VEVENT
BEGIN:VEVENT
DTSTART;VALUE=DATE:20170906
DTEND;VALUE=DATE:20170909
DTSTAMP:20260420T084612
CREATED:20170701T102407Z
LAST-MODIFIED:20170701T102407Z
UID:456-1504656000-1504915199@www.euro-online.org
SUMMARY:Optimization 2017
DESCRIPTION:The main objective of the Optimization 2017 conference is to bring together researchers and practitioners from different areas and backgrounds\, but with common interests in Optimization. This meeting has international recognition as an important forum of discussion and exchange of ideas.  It is the 9th edition of a series of international conferences in optimization organized in Portugal under the auspices of APDIO (the Portuguese Operations Research Society). The conference will take place in the Faculdade de Ciências of the Universidade de Lisboa. \nOptimization 2017 will host during the first day of the conference\, in parallel with the conference sessions\, a Workshop celebrating the 60th birthday of our dear colleague Luís Gouveia (Universidade de Lisboa)\, a well-known researcher in the field of Discrete and Network Optimization who significantly contributed to the development of the Optimization/OR research community in Portugal.
URL:https://www.euro-online.org/websites/continuous-optimization/event/optimization2017/
LOCATION:​Faculdade de Ciências\, Lisboa\, Portugal
CATEGORIES:Workshops and Conferences
ATTACH;FMTTYPE=image/jpeg:https://www.euro-online.org/websites/continuous-optimization/wp-content/uploads/sites/7/2017/07/optimization2017.jpg
END:VEVENT
BEGIN:VEVENT
DTSTART;VALUE=DATE:20170717
DTEND;VALUE=DATE:20170821
DTSTAMP:20260420T084612
CREATED:20170331T071531Z
LAST-MODIFIED:20170701T093157Z
UID:219-1500249600-1503273599@www.euro-online.org
SUMMARY:IFORS 2017
DESCRIPTION:
URL:https://www.euro-online.org/websites/continuous-optimization/event/ifors2017/
LOCATION:Quebec City Convention Centre\, Quebec City\, Canada
CATEGORIES:Workshops and Conferences
ATTACH;FMTTYPE=image/jpeg:https://www.euro-online.org/websites/continuous-optimization/wp-content/uploads/sites/7/2017/07/ifors2017.jpg
END:VEVENT
BEGIN:VEVENT
DTSTART;VALUE=DATE:20170712
DTEND;VALUE=DATE:20170715
DTSTAMP:20260420T084612
CREATED:20170224T190657Z
LAST-MODIFIED:20170701T093321Z
UID:194-1499817600-1500076799@www.euro-online.org
SUMMARY:EUROPT Workshop 2017
DESCRIPTION:
URL:https://www.euro-online.org/websites/continuous-optimization/event/public-speaker/
LOCATION:HEC\, Montréal\, Canada
CATEGORIES:EUROPT Meetings,Workshops and Conferences
ATTACH;FMTTYPE=image/jpeg:https://www.euro-online.org/websites/continuous-optimization/wp-content/uploads/sites/7/2017/04/websitespt17.jpg
END:VEVENT
BEGIN:VEVENT
DTSTART;VALUE=DATE:20170529
DTEND;VALUE=DATE:20170531
DTSTAMP:20260420T084612
CREATED:20170331T131042Z
LAST-MODIFIED:20170508T173153Z
UID:223-1496016000-1496188799@www.euro-online.org
SUMMARY:Workshop on Variational Analysis\, Equilibria and Optimization
DESCRIPTION:The workshop brings together experts in variational analysis\, equilibrium and optimization problems to have a nice overview of recent trends in these intertwined research areas. The workshops aims at celebrating the 60th birthday of Gabor Kassay\, a renowned scholar who contributed to the advancement of these areas. Kassay has strong ties with Italy and long standing collaborations with colleagues in L’Aquila\, Milano and Pisa\, who joined together to organize this two-day meeting. \nWorkshop webpage \n 
URL:https://www.euro-online.org/websites/continuous-optimization/event/vaeo/
LOCATION:Dipartimento di Informatica\, Università di Pisa\, Pisa\, Italy
CATEGORIES:Workshops and Conferences
ATTACH;FMTTYPE=image/jpeg:https://www.euro-online.org/websites/continuous-optimization/wp-content/uploads/sites/7/2017/04/vaeo.jpg
END:VEVENT
END:VCALENDAR