BEGIN:VCALENDAR
VERSION:2.0
PRODID:-//BOR - EURO Working Group on Behavioural OR - ECPv6.15.13.1//NONSGML v1.0//EN
CALSCALE:GREGORIAN
METHOD:PUBLISH
X-WR-CALNAME:BOR - EURO Working Group on Behavioural OR
X-ORIGINAL-URL:https://www.euro-online.org/websites/bor
X-WR-CALDESC:Events for BOR - EURO Working Group on Behavioural OR
REFRESH-INTERVAL;VALUE=DURATION:PT1H
X-Robots-Tag:noindex
X-PUBLISHED-TTL:PT1H
BEGIN:VTIMEZONE
TZID:UTC
BEGIN:STANDARD
TZOFFSETFROM:+0000
TZOFFSETTO:+0000
TZNAME:UTC
DTSTART:20170101T000000
END:STANDARD
END:VTIMEZONE
BEGIN:VEVENT
DTSTART;VALUE=DATE:20180708
DTEND;VALUE=DATE:20180712
DTSTAMP:20260423T053845
CREATED:20180525T102920Z
LAST-MODIFIED:20210518T063628Z
UID:332-1531008000-1531353599@www.euro-online.org
SUMMARY:EURO2018
DESCRIPTION:  \n \n  \nMonday\, 8:30-10:00 \nMA-31: Behaviour in Models I \nChair(s): Rudolf Vetschera \n\nData-driven behavioral models of water reservoir operators\nMatteo Giuliani\, Andrea Castelletti\, Jonathan Herman\nInfluence modeling: mathematical programming representations of persuasion under either risk or uncertainty\nWilliam Caballero\, Brian Lunday\nManaging complex adaptive systems: a resource/agent modelling perspective\nRoss Kazakov\, Susan Howick\, Alec Morton\nUsing the Zeuthen-Hicks bargaining model to identify a fixed pie bias in negotiations\nRudolf Vetschera\n\n  \nMonday\, 10:30-12:00 \nMB-31: Behavioural Impacts in OR-Supported Processes I \nChair(s): Gilberto Montibeller \n\nOnline weight elicitation: is there really an issue?\nAlice H. Aubert\, Judit Lienert\nIndividual differences in model comprehension and use: a study of cognitive styles and cognitive mapping\nIlkka Leppanen\, L. Alberto Franco\nAttractiveness bias: how the decision situation influences the willingness-to-pay for information\nJan Lenard Rother\, Christian Koester\, Maximilian Vincent Reimer\nBehavioral challenges in policy analysis with conflicting objectives\nGilberto Montibeller\n\n  \nMonday\, 12:30-14:00 \nMC-31: Descriptive Studies of Decision Making \nChair(s): Konstantinos Katsikopoulos \n\nThe use of round numbers in preference representation\nEwa Roszkowska\, Gregory Kersten\, Tomasz Wachowicz\nSimple methods of portfolio decision making: what do we lose and what do we gain?\nIan Durbach\nThe attention economy of online search: a natural experiment\nShashwat Pande\, Christopher Holland\, Konstantinia Papamichail\, Peter Kawalek\nOne-reason decision making!?\nKonstantinos Katsikopoulos\, Ozgur Simsek \, Jan Malte Lichtenberg\, Gregory Wheeler\n\n  \nMonday\, 14:30-16:00 \nMD-31: Behavioural OR: General Papers \nChair(s): Etienne Rouwette \n\nBehavioural operational research within two areas of conflict: an extended classification approach\nDamian Braschczok\nDeveloping ORBIT: the operational research behavioural interventions toolkit\nKatharina Burger\, Leroy White\, Martin Kunc\, Jonathan Malpass\nIntegration and application of problem structuring methods: an application in oil exploration\nFahad Mehmood\nPhysics\, foibles and failings: applying the ‘behavioural turn’ to the breadth of system dynamics practice\nEtienne Rouwette\, David Lane\n\n  \nTuesday \nTuesday\, 8:30-10:00 \nTA-31: Behaviour in Models II \nChair(s): Pekka Laitila \n\nDoes corporate social responsibility impact preferences in ESG portfolio optimization?\nGordon Dash\, Nina Kajiji\nSimulation of cultural processes and their social impact\nLeonidas Sakalauskas\nAffective decision making models with applications to social robotics\nSi Liu\, David Rios Insua\nOn practical applicability of ranked nodes method for constructing conditional probability tables of Bayesian networks\nPekka Laitila\, Kai Virtanen\n\n  \nTuesday\, 10:30-12:00 \nTB-31: Behavioural Impacts in OR Practice \nChair(s): Judit Lienert \n\nA diagnostic approach to improve the design and evaluation of decision support interventions\nLisa Scholten\nEffects of or applications and characteristics of or practitioners: an empirical study\nVioleta Cvetkoska\nHow does literacy\, decision style and loss aversion influence end-users’ choice of electricity dynamic tariffs in a smart grid context?\nMarta Lopes\, Inês Reis\, Carlos Henggeler Antunes\nTo aggregate or disaggregate? Experience from stakeholder interviews with two preference elicitation philosophies (SWING-weighting\, UTA-GMS)\nJudit Lienert\, Jun Zheng\n\n  \nTuesday\, 12:30-14:00 \nTC-31: Behavioural Processes in OR practice \nChair(s): L. Alberto Franco \n\nIn praise of the introverted: an extended use of soft systems methodology mode 2\nJose-Rodrigo Cordoba-Pachon\, Sulafah Basahel\nFraming strategies and their impact on client/consultant meetings\nAshley Carreras\, L. Alberto Franco\nLearning multi-criteria decision aiding workshop facilitation: experience from student case studies\nFrancis Marleau Donais\, Irene Abi-Zeid\nFormulations in facilitation practice: an exploratory video-based investigation of their use in situ\nAlberto Franco\, Mie Nielsen\n\n  \nTuesday\, 14:30-16:00 \nTD-31: Behavioural Impacts in OR-Supported Processes II \nChair(s): Raimo P. Hämäläinen \n\nCan we learn from wrong simulation models? An experimental study exploring simple models\nNaoum Tsioptsias\, Antuela Tako\, Stewart Robinson\nImpact of dashboards visualizing causal and stock-flow structure on operations management performance\nMichael Leyer\, Jürgen Strohhecker\nA drop in the bucket? Evaluating decision aiding tools in wastewater infrastructure planning cases\nFridolin Haag\, Judit Lienert\nBehavioural effects in two procedures for creating a strategy portfolio for climate change mitigation\nRaimo P. Hämäläinen\, Tuomas Lahtinen\n\n  \nWednesday \nWednesday\, 8:30-10:00 \nWA-31: Behavioural Operations and Games I \nChair(s): Aysegul Engin \n\nPerformance of selected contract designs for the newsvendor problem considering behavioral economic aspects of bargaining: experimental evidence\nMaximilian Vincent Reimer\nAnalysis of the hockey stick phenomenon using game theory and economical experiments\nNatalia Correa\, Sergio Ramirez\nThe curse of knowledge in decentralized supply chains\nDaniel Sanchez-Loor\, Wei-Shiun Chang\nOptimistic overconfidence in bidding behavior with differently represented cost feedback in electronic reverse auctions\nAysegul Engin\n\n  \nWednesday\, 10:30-12:00 \nWB-31: Behavioural Operations and Games II \nChair(s): Ilkka Leppanen \n\nThe impact of competition on product and process development decisions: evidence from a behavioral experiment\nMargarita Gladkova\, Timofey Shalpegin\nSuppliers’ learning: aggregate and individual levels\nMohsen Ahmadian\, Roger Blake\, Ehsan Elahi\nBehavior of the agent when the information is distorted by the principal\nAndrei Matveenko\nBuilding a hierarchical evaluation model by using interpretive structural modeling: a case study of ERP implementation risks\nIlker Gölcük\, Adil Baykasoğlu\n\n 
URL:https://www.euro-online.org/websites/bor/event/euro2018/
LOCATION:Online Seminar\, Valencia\, Spain
CATEGORIES:Conferences
END:VEVENT
END:VCALENDAR