BEGIN:VCALENDAR
VERSION:2.0
PRODID:-//BOR - EURO Working Group on Behavioural OR - ECPv6.15.13.1//NONSGML v1.0//EN
CALSCALE:GREGORIAN
METHOD:PUBLISH
X-WR-CALNAME:BOR - EURO Working Group on Behavioural OR
X-ORIGINAL-URL:https://www.euro-online.org/websites/bor
X-WR-CALDESC:Events for BOR - EURO Working Group on Behavioural OR
REFRESH-INTERVAL;VALUE=DURATION:PT1H
X-Robots-Tag:noindex
X-PUBLISHED-TTL:PT1H
BEGIN:VTIMEZONE
TZID:UTC
BEGIN:STANDARD
TZOFFSETFROM:+0000
TZOFFSETTO:+0000
TZNAME:UTC
DTSTART:20150101T000000
END:STANDARD
END:VTIMEZONE
BEGIN:VEVENT
DTSTART;VALUE=DATE:20160703
DTEND;VALUE=DATE:20160707
DTSTAMP:20260424T205008
CREATED:20180525T121149Z
LAST-MODIFIED:20210518T063628Z
UID:368-1467504000-1467849599@www.euro-online.org
SUMMARY:EURO2016
DESCRIPTION:Stream in Behavioural OR\nStream organizers: \nL. Alberto Franco\nl.a.franco@lboro.ac.uk\nLoughborough University\, UK \nRaimo P. Hämäläinen\nraimo.hamalainen@aalto.fi\nAalto University\, Finland \n  \nGeneral behavioural OR papers\n\nL. Alberto Franco\, Raimo P. Hämäläinen: Engaging with behavioural OR: On methods\, actors\, and praxis\nTuomas Lahtinen\, Raimo P. Hämäläinen: Path Dependence in Operational Research – How the Modeling Process Can Influence the Results\nRoss Ritchie: Manipulating Expert Risk Perception through Visual Information Format\nJane Christie: How to Choose and Combine OR/MS Methods\n\nBehavioural Issues in Decision Analysis\n\nIrene Pluchinotta\, Akin Kazakci\, Alexis Tsoukias\, Giovanna Fancello: Innovative public decision making assisted by design theory: is it possible?\nValentina Ferretti\, Sule Guney\, Gilberto Montibeller\, Detlof von Winterfeldt: Debiasing Overconfidence\nValerie Belton\, Mika Marttunen\, Judit Lienert: Combining Methods for Problem Structuring and Multicriteria Decision Analysis – a review of practice and reflections on behavioural implications\nDetlof von Winterfeldt: Bayes and Prejudice\n\nUncertainty\, forecasting and policy\n\nPekka Laitila\, Kai Virtanen: Improving Construction of Conditional Probability Tables for Ranked Nodes in Bayesian Networks\nValentin Bertsch\, Valeria Di Cosmo\, Wolf Fichtner\, Marian Hayn: Consumer behaviour and residential demand side flexibility – a calibration approach for electricity load profile modelling\nDevon Barrow\, Nikolaos Kourentzes: Investigating cognitive strategies used in time series decomposition via a think-aloud protocol analysis: Implications for time series forecasting\nMurat Kaya\, Ummuhan Akbay: Experiments on Commitment and Priming in Supply Chain Decisions\n\nModelling human behaviour\n\nCan Sun\, Thomas Ponsignon\, Thomas Rose: Analyzing supply chain planning behaviors with agent-based modeling and simulation\nDuncan Robertson\, Leroy White: An Agent-Based Model of Teams under External Shocks\nSalimeh Pour Mohammad\, Richard Vidgen\, Angela Espinosa: Soft OR and SNA for Simulating Human Behaviour\nSean Manzi: The basic components for simulating human behaviour in complex systems and associated research challenges\n\nLinks between behavioural sciences and OR\n\nManel Baucells\, Nikolay Osadchiy\, Anton Ovchinnikov: Behavioral Anomalies in Consumer Wait-or-Buy Decisions and Their Implications for Markdown Management\nK. Nadia Papamichail\, Simon French\, Duncan Shaw: Decision Analysis in the Nuclear Sector\nOzgur Simsek: Statistical properties of decision environments\nKonstantinos Katsikopoulos\, Ian Durbach: Simple Models for Decision Analysis and Support? A Synthesis of the Results\n\nEmotions and strategic thinking\n\nLeon Young: Modelling a Strategic Thinking Capability\nIlkka Leppänen\, Raimo P. Hämäläinen\, Esa Saarinen\, Mikko Viinikainen: Inquiry and Advocacy in Human Interactions – A Psychophysiological Study\nPekka Malo: Context Matters: Effects of Emotional Attachment and Information Overload\nRaimo P. Hämäläinen\, Teemu Tiinanen\, Juha Törmänen\, Esa Saarinen: PoSITeams 2.0 – Positive Systems Intelligent Teams\, an Agent-Based Simulator for Studying Group Behavior\n\nStudying the micro-processes of OR interventions\n\nKatharina Burger: Exploring Model-supported Coordination Processes in PSMIs with Micro-level Video Data\nFrances O’Brien\, Maureen Meadows: Exploring micro-practices observed during strategy development workshops\nJohn Mingers\, Leroy White: Throwing Out the Baby with the Bathwater: The Undesirable Effects of National Research Assessment Exercises on Research\nAshley Carreras\, L. Alberto Franco: Managing the Relationship between Clients and Consultants to Enable Progression in Interventions\n\nBehavioural issues in multicriteria decision making\n\nJyrki Wallenius\, Tommi Pajala\, Pekka Korhonen\, Pekka Malo\, Ankur Sinha\, Akram Dehnokhalaji: Voting Advice Model\nTommi Pajala\, Pekka Korhonen\, Jyrki Wallenius: Judgments of importance revisited: What do they mean?\nAbolfazl Keshvari\, Pekka Korhonen\, Jyrki Wallenius: Some thoughts of choosing criteria for decision problems\nAndrei Matveenko: Logit\, CES\, and Rational Inattention\n\nBehavioural issues in environmental decision support\n\nRaffaele Giordano\, Irene Pluchinotta: How to make ambiguity an enabling factor in group decision: hints from drought risk management\nMika Marttunen\, Valerie Belton\, Judit Lienert: Objectives hierarchy related biases in environmental MCDA applications – a meta-analysis\nAlice H. Aubert\, Judit Lienert: Serious games in environmental MCDA: enhancing preference construction and citizen involvement\nJudit Lienert\, Fridolin Haag: Messy Environmental Decisions – A Summary of BOR Challenges and Research Ideas\n\nBehavioural Operations Management\n\nXiaobo Zhao\, Yun Zhou\, Jinxing Xie: An Inventory System with Quasi-hyperbolic Discounting Rate\nSundara Natarajan Panchanatham\, Rahul R Marathe: Forecasting Temporal Changes in Biases\nJelle de Vries\, Debjit Roy\, René de Koster: Which Drivers Should Transport Your Cargo? Empirical Evidence from Long-haul Transport\nDiego de Siqueira Braga\, Bernd Hellingrath\, Fernando Buarque de Lima Neto: Trust-Aware Decision Support Mechanism for Supply Chains
URL:https://www.euro-online.org/websites/bor/event/euro2016/
LOCATION:Poznan\, Poland
CATEGORIES:Conferences
END:VEVENT
END:VCALENDAR