BEGIN:VCALENDAR
VERSION:2.0
PRODID:-//BOR - EURO Working Group on Behavioural OR - ECPv6.15.13.1//NONSGML v1.0//EN
CALSCALE:GREGORIAN
METHOD:PUBLISH
X-WR-CALNAME:BOR - EURO Working Group on Behavioural OR
X-ORIGINAL-URL:https://www.euro-online.org/websites/bor
X-WR-CALDESC:Events for BOR - EURO Working Group on Behavioural OR
REFRESH-INTERVAL;VALUE=DURATION:PT1H
X-Robots-Tag:noindex
X-PUBLISHED-TTL:PT1H
BEGIN:VTIMEZONE
TZID:UTC
BEGIN:STANDARD
TZOFFSETFROM:+0000
TZOFFSETTO:+0000
TZNAME:UTC
DTSTART:20180101T000000
END:STANDARD
END:VTIMEZONE
BEGIN:VEVENT
DTSTART;TZID=UTC:20190623T080000
DTEND;TZID=UTC:20190626T170000
DTSTAMP:20260422T114154
CREATED:20190930T141332Z
LAST-MODIFIED:20210518T063628Z
UID:583-1561276800-1561568400@www.euro-online.org
SUMMARY:EURO 2019 Dublin
DESCRIPTION:Stream Behavioural OR Sessions \nBehavioural OR general papers\nChair: L. Alberto Franco \nStudying behaviour in OR interventions: A review\nL. Alberto Franco\, Raimo P. Hämäläinen\, Etienne Rouwette\, Ilkka Leppanen\nTrajectories of praxis: an empirical behavioural OR study Sonya Crowe\, Martin Utley\nBehavioral OR from a Swedish military OA perspective: Ida Johansson\nWidening the OR competences: Systems Intelligence: Raimo P. Hämäläinen \nBehavioural issues in environmental-decision making\nChair: Judit Lienert \nOnline survey to test fairness principles for public infrastructure planning: Judit Lienert\, Sara Zuercher\, Rudolf Vetschera\nUnderstanding stakeholder learning processes to improve computer technology for forecasting floods in Africa: Francisco Silva Pinto\, Judit Lienert\nMulti-objective survey design for the range-wide assessment of snow leopards: Ian Durbach\nBeyond the multicriteria decision aiding process: A post-project monitoring of involved stakeholders in an urban planning case study: Francis Marleau Donais\, Irene Abi-Zeid\, Edward Owen Douglas Waygood\, Roxane Lavoie \nIndividual differences in OR-supported processes\nChair: Aysegul Engin \nActivating the adequate thinking mode when making decisions – an analysis of visualisation techniques\nMichael Leyer\, Aysegul Engin\, Jürgen Strohhecker\nIrrational Maximisers: Are behavioural maximisers more prone to biased judgements than their satisficing counterparts?\nShashwat Pande\, K.Nadia Papamichail\, Peter Kawalek\nIndividual differences in model comprehension and use: A study of cognitive styles and cognitive mapping\nIlkka Leppanen\, L. Alberto Franco\nVariability in decision behaviour: An agent capital perspective\nChidinma Crystal Ulumma Chukwuemeka\, K.Nadia Papamichail\, Yu-Wang Chen\, Richard Allmendinger \nBehavioural operations\nChair: Ilkka Leppanen \nThe optimal ordering and pricing decisions under reference point effects for a newsboy\nshouyu ma\nCan the sales-operations conflict reduce the bullwhip effect?\nMurat Kaya\, Gürdal Ertek\, Özlem Çoban\nRisk judgments in hurricane preparation decisions\nEva Regnier\nRole of gender-specific behaviour in supply contract decisions – An experimental investigation\nKumaravel Sivakumar \nBehavioural marketing and forecasting\nChair: Christopher Holland \nThe effectiveness of digital advertising\nGil Greenstein\nCollaborative forecasting behavior of humans and machines incorporating the concept of eXplainable AI\nTim Lauer\nThe online customer journey: Markov chain analysis of clickstream data\nChristopher Holland \nModelling behaviour\nChair: Alexander Baumeister \nGroup decision making with affective characteristics\nSi Liu\, David Rios\nEvaluating pharmaceutical external reference pricing regulation in the EU: A hybrid resource/agent modelling approach\nRossen Kazakov\, Susan Howick\, Alec Morton\nThe assignment problem in human resource project management – case of innovative and innovation projects\nHelena Gaspars-Wieloch\nBehavioural impact on the valuation of flexibility in project management\nAlexander Baumeister\, Markus Ilg \nBehavioural issues in OR practice\nChair: Götz Giering \nEnriched Soft System Methodology for practitioners\nFahad Mehmood\, Hussain Syed Kazmi\nAdoption-based design of decision support tools for manufacturing environments\nMelanie Ayre\nDo stakeholders know which wastewater systems achieve what they want?\nPhilipp Beutler\, Judit Lienert\nProcess tracing the choice quality in riskless multi-attribute decisions\nGötz Giering\, Gilberto Montibeller\, L. Alberto Franco
URL:https://www.euro-online.org/websites/bor/event/euro-2019-dublin/
LOCATION:Dublin\, Ireland
CATEGORIES:Conferences
END:VEVENT
END:VCALENDAR