BEGIN:VCALENDAR
VERSION:2.0
PRODID:-//BOR - EURO Working Group on Behavioural OR - ECPv6.15.13.1//NONSGML v1.0//EN
CALSCALE:GREGORIAN
METHOD:PUBLISH
X-WR-CALNAME:BOR - EURO Working Group on Behavioural OR
X-ORIGINAL-URL:https://www.euro-online.org/websites/bor
X-WR-CALDESC:Events for BOR - EURO Working Group on Behavioural OR
REFRESH-INTERVAL;VALUE=DURATION:PT1H
X-Robots-Tag:noindex
X-PUBLISHED-TTL:PT1H
BEGIN:VTIMEZONE
TZID:UTC
BEGIN:STANDARD
TZOFFSETFROM:+0000
TZOFFSETTO:+0000
TZNAME:UTC
DTSTART:20160101T000000
END:STANDARD
END:VTIMEZONE
BEGIN:VEVENT
DTSTART;VALUE=DATE:20170717
DTEND;VALUE=DATE:20170722
DTSTAMP:20260423T232046
CREATED:20180525T110401Z
LAST-MODIFIED:20210518T063628Z
UID:344-1500249600-1500681599@www.euro-online.org
SUMMARY:IFORS 2017
DESCRIPTION:Stream in Behavioural OR\n \nStream organizers: \nL. Alberto Franco\nl.a.franco@lboro.ac.uk\nLoughborough University\, UK \nRaimo P. Hämäläinen\nraimo.hamalainen@aalto.fi\nAalto University\, Finland \n\n\n\n\n\n  \nBehavioural issues in the practice of OR \n\nRaimo P. Hämäläinen\, Tuomas Lahtinen\, Joseph Guillaume: Why pay attention to paths in the practice of environmental modelling?\nJorge Velez-Castiblanco: The structure of problem structuring conversations: A boundary games approach\nIsabella Lami\, Elena Tavella: A comparison of PSM and non-PSM supported workshops: The creation and use of models\nL. Alberto Franco\, Christian Greiffenhagen: Making OR practice ‘visible’: An ethnomethodological study of a facilitated modelling workshop\n\n\nChair:L. Alberto Franco\n\n\n  \nBehavioural issues in decision making I \n\nNikolaos Argyris\, Ozlem Karsu\, Alec Morton: Capturing preferences for fairness in resource allocation problems\nValentina Ferretti: Any bias in spatial decision-making processes?\nDetlof von Winterfeldt: Bayes and prejudice\nGilberto Montibeller\, Valentina Ferretti\, Detlof von Winterfeldt: On the effectiveness of debiasing overprecision in probabilistic estimates\n\n\nGilberto Montibeller\n\n\n  \nSimulating human behaviour \n\nGordon Dash\, Nina Kajiji\, S Tiffany Donaldson: SMART cities: Multiple criteria public housing assignment motivated by neurobehavioral simulation\nLogan Laite\, Karthik Sankaranarayanan: Neural network analysis of behavioral agent based service channel data\nHilya Arini\, Tim Bedford\, John Quigley: A conceptual model of trust behaviour in emergency evacuation: Evidence from Indonesian volcano eruption\nDuncan Robertson: Agent-based models for simulating behavior\n\n\nDuncan Robertson\n\n\n  \nBehavioral issues in decision making II \n\nAysegul Engin: Role of feedback on bidding behavior in first price reverse auctions\nEwa Roszkowska\, Gregory Kersten\, Tomasz Wachowicz: Identifying the heuristics and biases in the prenegotiation preference elicitation\nFrancis Marleau Donais\, Irene Abi-Zeid\, Roxane Lavoie: Challenges and issues in building a shared model for multi-criteria group decision making: A case study from sustainable transportation\nRudolf Vetschera\, David Bourdin: Factors influencing the ratio bias\n\n\nRudolf Vetschera\n\n\n  \nBehavioural issues in environmental-decision making I \n\nMehrnoosh Enjelasi\, Behnam Fahimnia\, Andrew Collins: Analysing the behavioural factors in green supplier selection\nFridolin Haag\, Peter Reichert\, Nele Schuwirth\, Judit Lienert: Using trade-off preferences to identify non-additive multi-criteria value functions\nAlice H. Aubert\, Judit Lienert: Environmental decision analysts\, let’s be playful!\nPierre Glynn\, Alexey Voinov\, Carl Shapiro\, Karen Jenni: Adaptive governance with open traceable accountable cognizant science and policy\n\n\nAlice H. Aubert\n\n\n  \nTheoretical issues in behavioural OR \n\nDavid Lane: Behavioural system dynamics: A first sketch map of the territory\nThanos Papadopoulos\, Elena Tavella: The role of artefacts within facilitated modelling workshops\nKatharina Burger\, Leroy White: Theorising collective behaviour in OR interventions with Searle’s social ontology\nLeroy White: Social embeddedness\, behavioural OR and group decision support: What is the connection?\n\n\nLeroy White\n\n\n  \nBehavioural issues in environmental-decision making II \n\nLisa Scholten: Designing decision processes to overcome barriers to sustainable water systems\nValentin Bertsch: Behavioural aspects of decision making in energy systems – A selection of current topics\nMarta Lopes\, Carlos Henggeler Antunes\, Hermano Bernardo\, Humberto Jorge: Energy use feedback: A behavioural OR approach toward better decisions and more efficient energy behaviours\nJudit Lienert\, Valerie Belton\, Fridolin Haag\, Jyri Mustajoki\, Mika Marttunen: Are all proposed objectives useful in environmental decision-making?\n\n\nJudit Lienert\n\n\n  \nBehavioural OR and operations management \n\nFotios Petropoulos\, Dilek Onkal\, Konstantinos Nikolopoulos: Consultant interventions and behavioural change in supply chain forecasting\nJunlin Chen\, Xiaobo Zhao\, Deng Gao: Loss-averse decision analysis in overbooking problem\nMichael Leyer\, Jürgen Strohhecker: The influence of individual factors on group decision-making in dynamic environments\nIlkka Leppänen: Cognitive regulation and decision conflict in the newsvendor game\n\n\nIlkka Leppänen\n\n\n  \nBehavioural issues in markets and environmental management \n\nDong Xie\, Xiaobo Zhao\, Wanshan Zhu\, Jinxing Xie: Inspection or penalty? An experimental investigation on selling genuine products or counterfeit products\nMeysam Arvan\, Behnam Fahimnia\, Mohsen Reisi\, Enno Siemsen: Design and validation of a behaviourally informed forecasting support system\nRaffaele Giordano\, Irene Pluchinotta\, Alessandro Pagano: Organizational cultures and the creation of temporary multi-organization for environmental emergency management: Some hints from flashflood emergency in Lorca (Spain)\nMelanie Ayre\, Sarah King\, Andrew Reeson: Designing a market to generate OR data – An industrial ecology case study\n\n\nMelanie Ayre\n\n\n\n 
URL:https://www.euro-online.org/websites/bor/event/ifors-2017/
LOCATION:Quebec City\, Canada
CATEGORIES:Conferences
END:VEVENT
END:VCALENDAR